BEGIN:VCALENDAR
VERSION:2.0
PRODID:-//Šport Košice - ECPv5.10.1//NONSGML v1.0//EN
CALSCALE:GREGORIAN
METHOD:PUBLISH
X-WR-CALNAME:Šport Košice
X-ORIGINAL-URL:https://www.sportkosice.sk
X-WR-CALDESC:Udalosti pre Šport Košice
BEGIN:VTIMEZONE
TZID:Europe/Bratislava
BEGIN:DAYLIGHT
TZOFFSETFROM:+0100
TZOFFSETTO:+0200
TZNAME:CEST
DTSTART:20220327T010000
END:DAYLIGHT
BEGIN:STANDARD
TZOFFSETFROM:+0200
TZOFFSETTO:+0100
TZNAME:CET
DTSTART:20221030T010000
END:STANDARD
END:VTIMEZONE
BEGIN:VEVENT
DTSTART;TZID=Europe/Bratislava:20221022T160000
DTEND;TZID=Europe/Bratislava:20221022T180000
DTSTAMP:20260426T024152
CREATED:20221011T112247Z
LAST-MODIFIED:20230216T125213Z
UID:19029-1666454400-1666461600@www.sportkosice.sk
SUMMARY:Zápas II. liga ženy ŠŠK DRÁBOVÁ KOŠICE - MŠK VRANOV NAD TOPĽOU
DESCRIPTION:Čas zápasu upresnime.
URL:https://www.sportkosice.sk/podujatie/zapas-ii-liga-zeny-ssk-drabova-kosice-tha-martin-2/
LOCATION:HANDBALL ARENA – Bernolákova 16\, Bernoláková 16\, Košice\, Košický kraj\, 04001\, Slovenská republika
CATEGORIES:hadzana
END:VEVENT
END:VCALENDAR