BEGIN:VCALENDAR
VERSION:2.0
PRODID:-//Šport Košice - ECPv5.10.1//NONSGML v1.0//EN
CALSCALE:GREGORIAN
METHOD:PUBLISH
X-WR-CALNAME:Šport Košice
X-ORIGINAL-URL:https://www.sportkosice.sk
X-WR-CALDESC:Udalosti pre Šport Košice
BEGIN:VTIMEZONE
TZID:Europe/Bratislava
BEGIN:DAYLIGHT
TZOFFSETFROM:+0100
TZOFFSETTO:+0200
TZNAME:CEST
DTSTART:20200329T010000
END:DAYLIGHT
BEGIN:STANDARD
TZOFFSETFROM:+0200
TZOFFSETTO:+0100
TZNAME:CET
DTSTART:20201025T010000
END:STANDARD
END:VTIMEZONE
BEGIN:VEVENT
DTSTART;TZID=Europe/Bratislava:20200821T090000
DTEND;TZID=Europe/Bratislava:20200821T160000
DTSTAMP:20260426T051136
CREATED:20200818T085829Z
LAST-MODIFIED:20200818T085932Z
UID:11907-1598000400-1598025600@www.sportkosice.sk
SUMMARY:XIX. ROČNÍK TENISOVÉHO TURNAJA PRE DETI A MLÁDEŽ O POHÁR STAROSTU MČ - KOŠICE ZÁPAD
DESCRIPTION:
URL:https://www.sportkosice.sk/podujatie/xix-rocnik-tenisoveho-turnaja-pre-deti-a-mladez-o-pohar-starostu-mc-kosice-zapad/
LOCATION:TK MLADOSŤ KOŠICE\, Popradská 84\, Košice\, Košický kraj\, 04001\, Slovenská republika
ATTACH;FMTTYPE=image/jpeg:https://www.sportkosice.sk/wp-content/uploads/2020/08/117717694_1202146366818367_9107107708003476700_o.jpg
ORGANIZER;CN="M%C4%8D%20Ko%C5%A1ice%20-%20Z%C3%A1pad":MAILTO:atriumklub@kosicezapad.sk
END:VEVENT
END:VCALENDAR