BEGIN:VCALENDAR
VERSION:2.0
PRODID:-//Šport Košice - ECPv5.10.1//NONSGML v1.0//EN
CALSCALE:GREGORIAN
METHOD:PUBLISH
X-WR-CALNAME:Šport Košice
X-ORIGINAL-URL:https://www.sportkosice.sk
X-WR-CALDESC:Udalosti pre Šport Košice
BEGIN:VTIMEZONE
TZID:Europe/Bratislava
BEGIN:DAYLIGHT
TZOFFSETFROM:+0100
TZOFFSETTO:+0200
TZNAME:CEST
DTSTART:20200329T010000
END:DAYLIGHT
BEGIN:STANDARD
TZOFFSETFROM:+0200
TZOFFSETTO:+0100
TZNAME:CET
DTSTART:20201025T010000
END:STANDARD
END:VTIMEZONE
BEGIN:VEVENT
DTSTART;TZID=Europe/Bratislava:20200815T080000
DTEND;TZID=Europe/Bratislava:20200815T180000
DTSTAMP:20260426T025728
CREATED:20200805T083900Z
LAST-MODIFIED:20200805T083900Z
UID:11767-1597478400-1597514400@www.sportkosice.sk
SUMMARY:VOVA CUP 2020
DESCRIPTION:V spolupráci s miestnym poslancom Martinom Cuperom si Vás dovoľujeme pozvať na 1. ročník Memoriálu Vladimíra Slotu turnaja v malom futbale\, ktorý sa uskutoční na ihrisku na Aténskej ulici na sídlisku Ťahanovce . \nHrať sa bude na dvoch ihriskách 5+1 2x10 minút . Celý výťažok zo štartovného bude venovaný OZ SOS Leukémia. Pre každé mužstvo bude pripravené občerstvenie\, ktoré zabezpečí poslanec mestskej časti Branislav Jura/Domček Ťahanovce/ a taktiež nebude chýbať pitný režim vo forme čapovaných nápojov. \nPODMIENKY REGISTRÁCIE : \n1. Registrácia je možná na FB: BERLO PERLO alebo na EMAIL: perloberlovsky@gmail.com. \n2. Štartovné na jeden tím je 50 eur . V jednom tíme môže byť najviac 10 hráčov. \n3. Štartovné sa hradí na mieste osobne alebo na číslo účtu\, ktoré dostanete po registrácii.
URL:https://www.sportkosice.sk/podujatie/vova-cup-2020/
LOCATION:Ihrisko Aténska 1\, Aténska 1\, Košice\, Košický kraj\, 040 13\, Slovenská republika
ATTACH;FMTTYPE=image/jpeg:https://www.sportkosice.sk/wp-content/uploads/2020/08/116327815_10207657432551273_7886305055898118256_o.jpg
END:VEVENT
END:VCALENDAR