BEGIN:VCALENDAR
VERSION:2.0
PRODID:-//Šport Košice - ECPv5.10.1//NONSGML v1.0//EN
CALSCALE:GREGORIAN
METHOD:PUBLISH
X-WR-CALNAME:Šport Košice
X-ORIGINAL-URL:https://www.sportkosice.sk
X-WR-CALDESC:Udalosti pre Šport Košice
BEGIN:VTIMEZONE
TZID:Europe/Bratislava
BEGIN:DAYLIGHT
TZOFFSETFROM:+0100
TZOFFSETTO:+0200
TZNAME:CEST
DTSTART:20250330T010000
END:DAYLIGHT
BEGIN:STANDARD
TZOFFSETFROM:+0200
TZOFFSETTO:+0100
TZNAME:CET
DTSTART:20251026T010000
END:STANDARD
END:VTIMEZONE
BEGIN:VEVENT
DTSTART;TZID=Europe/Bratislava:20250618T180000
DTEND;TZID=Europe/Bratislava:20250618T203000
DTSTAMP:20260426T012038
CREATED:20250120T103053Z
LAST-MODIFIED:20250120T103053Z
UID:21017-1750269600-1750278600@www.sportkosice.sk
SUMMARY:UEFA U 21 SLOVAKIA 2025 - DENMARK vs. FINLAND
DESCRIPTION:
URL:https://www.sportkosice.sk/podujatie/uefa-u-21-slovakia-2025-denmark-vs-finland/
LOCATION:KFA – Košická futbalová aréna\, Pri prachárni 13\, Košice\, Košický kraj\, 040 01\, Slovenská republika
CATEGORIES:futbal
ATTACH;FMTTYPE=image/png:https://www.sportkosice.sk/wp-content/uploads/2025/01/UEFA-U-21.png
END:VEVENT
END:VCALENDAR