BEGIN:VCALENDAR
VERSION:2.0
PRODID:-//Šport Košice - ECPv5.10.1//NONSGML v1.0//EN
CALSCALE:GREGORIAN
METHOD:PUBLISH
X-WR-CALNAME:Šport Košice
X-ORIGINAL-URL:https://www.sportkosice.sk
X-WR-CALDESC:Udalosti pre Šport Košice
BEGIN:VTIMEZONE
TZID:Europe/Bratislava
BEGIN:DAYLIGHT
TZOFFSETFROM:+0100
TZOFFSETTO:+0200
TZNAME:CEST
DTSTART:20240331T010000
END:DAYLIGHT
BEGIN:STANDARD
TZOFFSETFROM:+0200
TZOFFSETTO:+0100
TZNAME:CET
DTSTART:20241027T010000
END:STANDARD
END:VTIMEZONE
BEGIN:VEVENT
DTSTART;TZID=Europe/Bratislava:20240226T080000
DTEND;TZID=Europe/Bratislava:20240226T170000
DTSTAMP:20260426T054855
CREATED:20240226T114550Z
LAST-MODIFIED:20240226T114550Z
UID:20372-1708934400-1708966800@www.sportkosice.sk
SUMMARY:TVRĎÁK KOŠICE 2024
DESCRIPTION:10.00 Detský Tvrďák\n11.00 Vlna 1 - Tvrďák Tsunami\n11.30 Vlna 2\n12.00 Vlna 3\n12.30 Vlna 4\n13.00 Tvrdé Hry\n\n\nKosice\, Slovakia
URL:https://www.sportkosice.sk/podujatie/tvrdak-kosice-2024/
LOCATION:Lyžiarske stredisko Kavečany\, MČ Košice - Kavečany
CATEGORIES:beh
ATTACH;FMTTYPE=image/jpeg:https://www.sportkosice.sk/wp-content/uploads/2024/02/424569589_719769063592642_3660147980904539486_n.jpg
END:VEVENT
END:VCALENDAR