BEGIN:VCALENDAR
VERSION:2.0
PRODID:-//Šport Košice - ECPv5.10.1//NONSGML v1.0//EN
CALSCALE:GREGORIAN
METHOD:PUBLISH
X-WR-CALNAME:Šport Košice
X-ORIGINAL-URL:https://www.sportkosice.sk
X-WR-CALDESC:Udalosti pre Šport Košice
BEGIN:VTIMEZONE
TZID:Europe/Bratislava
BEGIN:DAYLIGHT
TZOFFSETFROM:+0100
TZOFFSETTO:+0200
TZNAME:CEST
DTSTART:20240331T010000
END:DAYLIGHT
BEGIN:STANDARD
TZOFFSETFROM:+0200
TZOFFSETTO:+0100
TZNAME:CET
DTSTART:20241027T010000
END:STANDARD
END:VTIMEZONE
BEGIN:VEVENT
DTSTART;TZID=Europe/Bratislava:20240310T100000
DTEND;TZID=Europe/Bratislava:20240310T120000
DTSTAMP:20260426T042153
CREATED:20240308T122326Z
LAST-MODIFIED:20240308T122721Z
UID:20453-1710064800-1710072000@www.sportkosice.sk
SUMMARY:ŠŠK DRABOVA KOŠICE - ŠŠK BERNOLAKOVA KOŠICE
DESCRIPTION:10:00 mladšie žiačky\n11:00 staršie žiačky
URL:https://www.sportkosice.sk/podujatie/ssk-drabova-kosice-ssk-bernolakova-kosice/
LOCATION:Južná Trieda 48\, Košice\, Južná Trieda 48\, Košice\, Košický kraj\, 04001
CATEGORIES:hadzana
ATTACH;FMTTYPE=image/jpeg:https://www.sportkosice.sk/wp-content/uploads/2024/03/429799697_376677491965201_4152523822546976303_n.jpg
END:VEVENT
END:VCALENDAR