BEGIN:VCALENDAR
VERSION:2.0
PRODID:-//Šport Košice - ECPv5.10.1//NONSGML v1.0//EN
CALSCALE:GREGORIAN
METHOD:PUBLISH
X-WR-CALNAME:Šport Košice
X-ORIGINAL-URL:https://www.sportkosice.sk
X-WR-CALDESC:Udalosti pre Šport Košice
BEGIN:VTIMEZONE
TZID:Europe/Bratislava
BEGIN:DAYLIGHT
TZOFFSETFROM:+0100
TZOFFSETTO:+0200
TZNAME:CEST
DTSTART:20240331T010000
END:DAYLIGHT
BEGIN:STANDARD
TZOFFSETFROM:+0200
TZOFFSETTO:+0100
TZNAME:CET
DTSTART:20241027T010000
END:STANDARD
END:VTIMEZONE
BEGIN:VEVENT
DTSTART;TZID=Europe/Bratislava:20240813T190000
DTEND;TZID=Europe/Bratislava:20240813T203000
DTSTAMP:20260426T054356
CREATED:20240807T075536Z
LAST-MODIFIED:20240807T075536Z
UID:20664-1723575600-1723581000@www.sportkosice.sk
SUMMARY:SPOZNAJ BEHOM KOŠICE 2024 - KVP
DESCRIPTION:Nesúťažný beh\, kde predstavujeme jednotlivé zákutia Košíc.Tentokrát budeme spoznávať mestskú časť Košice - Sídlisko KVP\nRegistrácia na mieste\, Pri Komunitnej kaviarni /Dénešova 6/ od 18:15Štartovné na beh 2 €V cene štartovného úschovňa\, tombola\, pitný režim\, zázemie pre bicykle.\nTombola o 18:50 následne rozcvička a štartTrať bude rozdelená na krátku /cca 4 km/ a dlhá /cca 7 km/.Mapa trate bude zverejnená najneskôr v pondelok večer\, pred behom. Trať bude vyznačená a na trati budú usporiadatelia.Pokúsime sa vám opäť priniesť letné zážitky.\nViac info na www.spoznajbehomkosice.skActive life - PRIDAJ SA K NÁM!#activelifepridajsaknam#spoznajbehomkosice\nPartneri:# Mestská časť Košice - Sídlisko KVP# Magna# supermarkety FRESH Plus# EXIsport# Nemocnica AGEL Košice - Šaca# reklamná agentúra Willcom.sk# Den Braven
URL:https://www.sportkosice.sk/podujatie/spoznaj-behom-kosice-2024-kvp/
LOCATION:Drocarov park – KVP\, Drocárov park\, Košice\, Košický kraj\, 040 23\, Slovenská republika
CATEGORIES:atletika,beh
ATTACH;FMTTYPE=image/jpeg:https://www.sportkosice.sk/wp-content/uploads/2024/08/452885447_805588161739897_3357847917763541401_n.jpg
END:VEVENT
END:VCALENDAR