BEGIN:VCALENDAR
VERSION:2.0
PRODID:-//Šport Košice - ECPv5.10.1//NONSGML v1.0//EN
CALSCALE:GREGORIAN
METHOD:PUBLISH
X-WR-CALNAME:Šport Košice
X-ORIGINAL-URL:https://www.sportkosice.sk
X-WR-CALDESC:Udalosti pre Šport Košice
BEGIN:VTIMEZONE
TZID:Europe/Bratislava
BEGIN:DAYLIGHT
TZOFFSETFROM:+0100
TZOFFSETTO:+0200
TZNAME:CEST
DTSTART:20200329T010000
END:DAYLIGHT
BEGIN:STANDARD
TZOFFSETFROM:+0200
TZOFFSETTO:+0100
TZNAME:CET
DTSTART:20201025T010000
END:STANDARD
END:VTIMEZONE
BEGIN:VEVENT
DTSTART;TZID=Europe/Bratislava:20200814T160000
DTEND;TZID=Europe/Bratislava:20200814T200000
DTSTAMP:20260426T002232
CREATED:20200217T132833Z
LAST-MODIFIED:20200821T092303Z
UID:10414-1597420800-1597435200@www.sportkosice.sk
SUMMARY:ŠPORTOVÝ PIATOK NA HLAVNEJ 2020 - BOJOVÉ ŠPORTY V BOXERSKOM RINGU
DESCRIPTION:Aj 5. ročník podujatia Športové piatky na Hlavnej ulici je venovaný návštevníkom Hlavnej ulice počas ☀️ letných v mesiacov Júl a August. Hlavným cieľom podujatí je propagácia športových klubov pôsobiacich v meste Košice\, ktoré tak môžu odprezentovať svoju činnosť na verejnosti a zároveň prilákať nových členov do svojich radov.\nPri soche Immaculata ⛲️ (námestie na Hlavnej ulici v Košiciach\, kde každoročne mesto Košice organizuje hlavný Vianočný program) sme pre návštevníkov historického centra tento rok ? naplánovali\n2 júlové a 4 augustové piatky: \nTento piatok nás čaká opäť boxerský ring a v ňom sa môžete tešiť na Box Košice + K1 team Terasa + GUARD Košice + Yoseikan Budo Club Košice 😉 \nOkrem boxerského ringu sa môžete tešiť a vyskúšať si postaviť sa zoči voči zástupcom jednotlivých klubov aj na tatami 😉 \nProgram už čoskoro 😉 \nZačali sme ? 24.07.2020 - Košickí Hádzanári v akcii ?‍♂️?‍♀️\n- odprezentoval sa nám klub mužskej hádzanej HK Košice s legendami Košickej hádzanej ?‍♀️\n- za ženskú / dievčenskú hádzanú príde?‍♂️ ŠŠK Bernoláková Košice\n- pozvali sme na sobotný Handball Legends Beach Cup\n- priniesli sme aj hádzanársku bránku \n31.07.2020 - Dobrovoľné hasičské zbory zaútočili\n- odprezentovali sa nám napr. DHZ Kecerovce\, DHZ Čižatice\, DHZ Poproč a #DHZRuskov\n- v spolupráci s Územná organizácia DPO SR Košice-okolie \n07.08.2020 - HC Košice (oficiálna stránka) stále v hre\n16.00 otvorenie programu - ASC CHEERLEADERS (pre záujemkyne\, ktoré by sa chceli pridať píšte ?\n16.15 fotenie s maskotom resp. s cheerleaderkami pri fotostene\n- Streľba na bránku o darčeky\n- zápasy v stolnom hokeji - 2 na 2 víťazi dostanú odmenu\n17.00 vystúpenie ASC CHEERLEADERS\n18.00 vystúpenie ASC CHEERLEADERS\n19.15 - fotenie a autogramiáda s Tomáš Jurčo \nČo nás ešte očakáva: \n21.08.2020 - Detská gymnastika s FanyGym \nNa záver leta 28.08.2020 Roztancujeme celú Hlavnú ulicu s Outbreak.sk a Whos' that kidz \nNenechajte si ujsť svoj obľúbený šport na Hlavnej ulici 😉 \nZ uvedeného podujatia budú zhotovené ????obrazové a zvukové záznamy v súlade s čl. 6 ods. 1 písm. f) nariadenia ?? EÚ o ochrane fyzických osôb pri spracúvaní osobných údajov. Bližšie ℹ️ informácie na www.kosice.sk \nOrganizátor Mesto Košice - Referát športu a mládeže si vyhradzuje právo zmeny programu z dôvodu nepriazne počasia ⛈?? prípadne iných programových zmien.
URL:https://www.sportkosice.sk/podujatie/sportovy-piatok-na-hlavnej-2020-7/
LOCATION:Námestie pred súsoším Immaculata\, Hlavná 68\, Košice\, Košický kraj\, 040 01\, Slovenská republika
ATTACH;FMTTYPE=image/jpeg:https://www.sportkosice.sk/wp-content/uploads/2020/02/sportove-piatky-udalost-04.jpg
ORGANIZER;CN="Oddelenie%20%C5%A1portu%20a%20ml%C3%A1de%C5%BEe":MAILTO:sportkosice@gmail.com
END:VEVENT
END:VCALENDAR