BEGIN:VCALENDAR
VERSION:2.0
PRODID:-//Šport Košice - ECPv5.10.1//NONSGML v1.0//EN
CALSCALE:GREGORIAN
METHOD:PUBLISH
X-WR-CALNAME:Šport Košice
X-ORIGINAL-URL:https://www.sportkosice.sk
X-WR-CALDESC:Udalosti pre Šport Košice
BEGIN:VTIMEZONE
TZID:Europe/Bratislava
BEGIN:DAYLIGHT
TZOFFSETFROM:+0100
TZOFFSETTO:+0200
TZNAME:CEST
DTSTART:20240331T010000
END:DAYLIGHT
BEGIN:STANDARD
TZOFFSETFROM:+0200
TZOFFSETTO:+0100
TZNAME:CET
DTSTART:20241027T010000
END:STANDARD
END:VTIMEZONE
BEGIN:VEVENT
DTSTART;TZID=Europe/Bratislava:20241110T180000
DTEND;TZID=Europe/Bratislava:20241110T210000
DTSTAMP:20260426T054237
CREATED:20241030T145621Z
LAST-MODIFIED:20241030T150328Z
UID:20835-1731261600-1731272400@www.sportkosice.sk
SUMMARY:Slovensko vs Čierna Hora - Slovenská mužská hádzanárska reprezentácia
DESCRIPTION:Slovensko vs Čierna Hora \n\n\nSlovenská mužská hádzanárska reprezentácia  stojí pred ďalšou výzvou v podobe kvalifikácie EHF EURO 2026.Zároveň ide o “The Last Dance” dvoch hrajúcich legiend a odchovancov košickej hádzanej Tomáša Urbana a Teodora Paula. \n\n\nV legendárnej Steel aréne  privítajú naši slovenskí reprezentanti  súpera z Čiernej Hory\, s ktorým chceme bojovať o priamy postup na šampionát. \n\n\nZaži nezabudnuteľnú atmosféru metropoly východu  a zakričme si poslednýkrát spoločne meno Tomáša Urbana a Teodora Paula. \n\nNaša reprezentácia sa vráti do Steel arény po dvoch rokoch. Naposledy odohrala v Košiciach zápasy domácich majstrovstiev Európy 2022\, ktoré Slováci spoluorganizovali s Maďarmi. Šampionát však poznačila celosvetová pandémia koronavírusu a na stretnutia slovenskej reprezentácie bolo k dispozícii len 25-percent kapacity arény v Košiciach. Poďme si to vynahradiť! Pripravme spoločne našich hráčom atmosféru\, akú nemali možnosť zažiť počas európskeho šampionátu. Zaplnená aréna im jednoznačne pomôže v kľúčovom zápase\, ktorý môže v konečnom účtovaní rozhodnúť o našom postupne na EHF EURO 2026.\n\n\nVstupenky v predaji v @ticketlive \n\n\n\nhttps://www.ticketlive.sk/sk/event/slovensko-cierna-hora-kosicTicketlive\n\n\n#viacakošport #repre #ehfeuro
URL:https://www.sportkosice.sk/podujatie/slovensko-vs-cierna-hora/
LOCATION:STEEL ARENA\, Nerudova 12\, Košice\, 04001\, Slovenská republika
CATEGORIES:hadzana
ATTACH;FMTTYPE=image/jpeg:https://www.sportkosice.sk/wp-content/uploads/2024/10/464638276_8686319428071613_5031363129026538403_n.jpg
END:VEVENT
END:VCALENDAR