BEGIN:VCALENDAR
VERSION:2.0
PRODID:-//Šport Košice - ECPv5.10.1//NONSGML v1.0//EN
CALSCALE:GREGORIAN
METHOD:PUBLISH
X-WR-CALNAME:Šport Košice
X-ORIGINAL-URL:https://www.sportkosice.sk
X-WR-CALDESC:Udalosti pre Šport Košice
BEGIN:VTIMEZONE
TZID:Europe/Bratislava
BEGIN:DAYLIGHT
TZOFFSETFROM:+0100
TZOFFSETTO:+0200
TZNAME:CEST
DTSTART:20230326T010000
END:DAYLIGHT
BEGIN:STANDARD
TZOFFSETFROM:+0200
TZOFFSETTO:+0100
TZNAME:CET
DTSTART:20231029T010000
END:STANDARD
END:VTIMEZONE
BEGIN:VEVENT
DTSTART;TZID=Europe/Bratislava:20230616T093000
DTEND;TZID=Europe/Bratislava:20230617T150000
DTSTAMP:20260426T044426
CREATED:20231108T142208Z
LAST-MODIFIED:20231108T142208Z
UID:19712-1686907800-1687014000@www.sportkosice.sk
SUMMARY:Slávnostné otvorenie Športovej haly Stará jazdiareň
DESCRIPTION:Košice boli najmä na prelome 19. a 20. storočia známe aj ako „mesto vojakov“\, dôležité sídlo kasární a veliteľstiev početných zborov\, divízií a plukov. Svoju úlohu vo všetkých armádach až donedávna už od stredoveku zohrávali kone a s nimi spojené objekty.\n\n\nNajznámejšia košická bývalá jazdiareň sa nachádza dnes v ochrannom pásme Mestskej pamiatkovej rezervácie Košice na mieste stretu  ulíc Hviezdoslavova\, Moyzesova a Kuzmányho. Pôvodne však tvorila záverečnú súčasť rozľahlého areálu bývalých Veľkých a Malých delostreleckých kasární\, známych za socializmu aj ako Malinovského kasárne. Osem z dvadsiatich historických budov týchto mestotvorných kasární sa po dlhoročnom úsilí KPÚ Košice stalo v roku 2021 národnými kultúrnymi pamiatkami. Súčasťou vyhláseného súboru je aj jazdiareň\, ktorej historická hodnota spočívala vo väzbe na rozhodujúcu armádnu spôsobilosť – na chov vojenských koní a ich drezúru.  Postavená bola v roku 1886 ako halová stavba určená k drezúre vojenských koní.\n\n\nKrátko po druhej svetovej vojne\, keď kone z armády „prepúšťali“\, bola jazdiareň odčlenená od areálu kasární a adaptovaná na športovú halu\, ako ju dodnes poznajú celé generácie.  Obnova športovej haly bola pripravovaná a realizovaná v úzkej spolupráci s KPÚ Košice a prebiehala do jari tohto roku.\n\n\n Dnes tu máme športovú halu Stará jazdiareň\, ktorá už v piatok 16. júna otvorí svoje brány aj verejnosti.  Pozývame vás na jej slávnostné otvorenie\, ktoré potrvá do soboty 17. júna.\n Informácie k otvoreniu nájdete tu:\nhttps://www.facebook.com/events/980206019862210/?acontext=%7B%22event_action_history%22%3A[]%7D\n\n\nVeríme\, že spoločne oceníme úspešný nový príbeh obnovy najznámejšej košickej športovej haly.  O jej histórii sa viac dočítate v článku z tvorivej dielne Krajského pamiatkového úradu Košice:  https://www.pamiatky.sk/page/k-u-k-kosicke-kone/\n\n\nZdroj: Pamiatkový úrad SR\nFoto: Archív mesta Košice\n\n  \nOceňovanie víťazov Fresh školskej športovej ligy 2022/2023 \n10:00 h – otvorenie podujatia\, tanečná skupina Dancin´Bugs  \n 10:10 h – Slávnostné otvorenie ŠH Stará jazdiareň \n 10:30 h – Začiatok exhibičného zápasu CBK Košice vs. ŠBK Galaxy Košice \n11:10h – Začiatok oceňovania finalistov FŠŠL  \n\nMinihádzaná \nVodná turistika \nDetská atletika \n\n11:30h - Trampolíny Košice - predstavenie reprezentantiek  \n\nPlávanie \nStreľba \n\n12:00 h – Poďakovanie učiteľom\, trénerom FŠŠL \n12:05 h – Prekvapenie na záver\, rozhovor a autogramiáda s hráčmi HC Košice  \n12:30 – 15:00 h - prestávka \n15:00 h Ukážka rôznych športov \n15:00 – 16:00 h Podpor Pohyb Košice  \n16:00 - 17.00 h CBK basketbalistky\, ukážka tréningovej jednotky \n17.00 - 17.10 h vystúpenie DS STUDIO  \n17:10 - 17.50 h Zápasnícky klub ZK 1904  \n17:10 - 18.00 h Pole Dance  \n15:00 – 18:00 h Červený kríž - workshop \n17:30 h Autogramiáda športových osobností \n  \n17.6.2023 \n10:00 h Ukážka rôznych športov \n10:00 h vystúpenie STARDANCE a FS Cverna - Čardáš dvoch sŕdc\, ZŠ Gemerská \n  \n10:10 - 12:10 h Mini Majstrovstvá Slovenska v športovom šerme s Willard Košice \n  \n11: 10 - 11:25 h Úpolové športy KARATE UNION KOŠICE \n12:10 - 12:20 h  vystúpenie tanečnej skupiny Step by Step  \n  \n12:20 - 13:30 h FK Florko Košice \n  \n10:00 - 14:00 h  Maľovanie na tvár s CVČ Košice \n                               Tvorivé dielne s CVČ Košice \n                               Súťaže pre deti s CVČ Košice \n                             Workshop Červený kríž Košice \n  \n13:30 h Autogramiáda športových osobností
URL:https://www.sportkosice.sk/podujatie/slavnostne-otvorenie-sportovej-haly-stara-jazdiaren/
LOCATION:Športová hala Stará jazdiareň\, Pri jazdiarni 1\, Košice\, Košický kraj\, 040 01\, Slovenská republika
ATTACH;FMTTYPE=image/jpeg:https://www.sportkosice.sk/wp-content/uploads/2023/11/347234136_1262474004411603_8255688843390201331_n.jpg
ORGANIZER;CN="Mesto%20Ko%C5%A1ice":MAILTO:sportkosice@gmail.com
END:VEVENT
END:VCALENDAR