BEGIN:VCALENDAR
VERSION:2.0
PRODID:-//Šport Košice - ECPv5.10.1//NONSGML v1.0//EN
CALSCALE:GREGORIAN
METHOD:PUBLISH
X-WR-CALNAME:Šport Košice
X-ORIGINAL-URL:https://www.sportkosice.sk
X-WR-CALDESC:Udalosti pre Šport Košice
BEGIN:VTIMEZONE
TZID:Europe/Bratislava
BEGIN:DAYLIGHT
TZOFFSETFROM:+0100
TZOFFSETTO:+0200
TZNAME:CEST
DTSTART:20230326T010000
END:DAYLIGHT
BEGIN:STANDARD
TZOFFSETFROM:+0200
TZOFFSETTO:+0100
TZNAME:CET
DTSTART:20231029T010000
END:STANDARD
END:VTIMEZONE
BEGIN:VEVENT
DTSTART;TZID=Europe/Bratislava:20231115T184500
DTEND;TZID=Europe/Bratislava:20231115T210000
DTSTAMP:20260426T042336
CREATED:20231110T115438Z
LAST-MODIFIED:20231121T115613Z
UID:19791-1700073900-1700082000@www.sportkosice.sk
SUMMARY:SEMIFINÁLE MALÉHO FUTBALU 5+1 v KOŠICIACH
DESCRIPTION:Košická nová liga malého futbalu je klubová súťaž amatérskych futbalistov. V Septembri 2023 sa po prvý krát otvorila liga vo formáte 5+1. Tímy bojovali 10 týždňov v skupinách o postup do FINAL 4\, aby sa "pobili" o premiérového víťaza.\n\nSrdečne Vás pozývame na vzrušujúce semifinálové zápasy malého futbalu 5+1\, ktoré sa uskutočnia v areáli na Janingovej ulici.\nUž túto Stredu 15.11.2023 sa o 19:00 začne prvý semifinálový duel medzi Vakatankou a Hofexom. Druhé semifinálové stretnutie Rising prospects - HB Žlčové kamene má výkop o 20:30.\n\nPríďte a buďte svedkami vášnivých súbojov\, plných športového ducha a súťaživosti. Podporte svoje obľúbené tímy a užite si nezapomenuteľný športový zážitok !\n\nTešíme sa na Vašu účasť !
URL:https://www.sportkosice.sk/podujatie/semifinale-maleho-futbalu-51-v-kosiciach-2/
LOCATION:Futbalové ihrisko – Janigová KVP\, Klimkovičová 1245/40\, Košice\, Košický kraj\, 04023\, Slovenská republika
CATEGORIES:futbal
ATTACH;FMTTYPE=image/jpeg:https://www.sportkosice.sk/wp-content/uploads/2023/11/402640622_335131952548279_3407899589269323924_n.jpg
END:VEVENT
END:VCALENDAR