BEGIN:VCALENDAR
VERSION:2.0
PRODID:-//Šport Košice - ECPv5.10.1//NONSGML v1.0//EN
CALSCALE:GREGORIAN
METHOD:PUBLISH
X-WR-CALNAME:Šport Košice
X-ORIGINAL-URL:https://www.sportkosice.sk
X-WR-CALDESC:Udalosti pre Šport Košice
BEGIN:VTIMEZONE
TZID:Europe/Bratislava
BEGIN:DAYLIGHT
TZOFFSETFROM:+0100
TZOFFSETTO:+0200
TZNAME:CEST
DTSTART:20240331T010000
END:DAYLIGHT
BEGIN:STANDARD
TZOFFSETFROM:+0200
TZOFFSETTO:+0100
TZNAME:CET
DTSTART:20241027T010000
END:STANDARD
END:VTIMEZONE
BEGIN:VEVENT
DTSTART;TZID=Europe/Bratislava:20240317T130000
DTEND;TZID=Europe/Bratislava:20240317T150000
DTSTAMP:20260426T055153
CREATED:20240313T142204Z
LAST-MODIFIED:20240313T142204Z
UID:20484-1710680400-1710687600@www.sportkosice.sk
SUMMARY:Semifinále - Juniori FK FLORKO KOŠICE - Snipers Bratislava
DESCRIPTION:SEMIFINÁLE - JUNIORI \n\n\n\nCesta za spoločným cieľom pre našich juniorov pokračuje už tento víkend. V repríze minulosezónneho semifinále ich čaká Snipers Bratislava. Pri tom určite nechceš a nesmieš chýbať. \n\n\nVšetko na tradičnom mieste v Hádzanárska hala Slavomíra Šipoša \n\n\n\n SOBOTA OD 14:00\n NEDEĽA OD 13:00\n\n\n\nPríď podporiť chlapcov priamo na tribúnu.\n\n\n#pomeflorko
URL:https://www.sportkosice.sk/podujatie/semifinale-juniori-fk-florko-kosice-snipers-bratislava-2/
LOCATION:HÁDZANÁRSKA HALA SLAVOMÍRA ŠIPOŠA\, Alejová 2\, Košice\, 04011\, Slovenská republika
CATEGORIES:florbal
ATTACH;FMTTYPE=image/jpeg:https://www.sportkosice.sk/wp-content/uploads/2024/03/432277571_921793589742523_6508259869049764434_n.jpg
END:VEVENT
END:VCALENDAR