BEGIN:VCALENDAR
VERSION:2.0
PRODID:-//Šport Košice - ECPv5.10.1//NONSGML v1.0//EN
CALSCALE:GREGORIAN
METHOD:PUBLISH
X-WR-CALNAME:Šport Košice
X-ORIGINAL-URL:https://www.sportkosice.sk
X-WR-CALDESC:Udalosti pre Šport Košice
BEGIN:VTIMEZONE
TZID:Europe/Bratislava
BEGIN:DAYLIGHT
TZOFFSETFROM:+0100
TZOFFSETTO:+0200
TZNAME:CEST
DTSTART:20220327T010000
END:DAYLIGHT
BEGIN:STANDARD
TZOFFSETFROM:+0200
TZOFFSETTO:+0100
TZNAME:CET
DTSTART:20221030T010000
END:STANDARD
END:VTIMEZONE
BEGIN:VEVENT
DTSTART;TZID=Europe/Bratislava:20221111T160000
DTEND;TZID=Europe/Bratislava:20221113T160000
DTSTAMP:20260426T042158
CREATED:20221024T083515Z
LAST-MODIFIED:20221024T083648Z
UID:18693-1668182400-1668355200@www.sportkosice.sk
SUMMARY:Posledné zlanenie - Zádiel
DESCRIPTION:Posledné zlanenie - Rozlomity klubu sa uskutoční v dňoch 11.11-.13.11.2022 \, na horolezeckej chate v Zádieli.\nPozývame:\n- na posedenie s priateľmi v prijemnej spoločnosti\,\n- na prezentácii nových lezeckých ciest s možnosťou lezenia v tradičných aj netradičných zákutiach Zadielskej doliny.\nParametre: Pivo 1 \,- € Gulas 3 \,- € Ubytovanie 5 \,-€ noc\nNeobmedzené množstvo miest na spanie – (23 posteli + 4 miestny gaučík \, ostatní vlastny spacák)\nPosledné zlanenie sobota o 14:00 – Stienka za chatou.\nTradičné večerné súťaže:\n• Pikolov memorial\n• Hod metrovicou\n• Preliezanie stlpa\n• Časovka – beh na ranč – vypitie veľkého piva – beh na chatu
URL:https://www.sportkosice.sk/podujatie/posledne-zlanenie-zadiel/
LOCATION:Zádielská chata
ATTACH;FMTTYPE=image/jpeg:https://www.sportkosice.sk/wp-content/uploads/2022/10/311638293_3309998879252844_3579019414200335258_n.jpg
END:VEVENT
END:VCALENDAR