BEGIN:VCALENDAR
VERSION:2.0
PRODID:-//Šport Košice - ECPv5.10.1//NONSGML v1.0//EN
CALSCALE:GREGORIAN
METHOD:PUBLISH
X-WR-CALNAME:Šport Košice
X-ORIGINAL-URL:https://www.sportkosice.sk
X-WR-CALDESC:Udalosti pre Šport Košice
BEGIN:VTIMEZONE
TZID:Europe/Bratislava
BEGIN:DAYLIGHT
TZOFFSETFROM:+0100
TZOFFSETTO:+0200
TZNAME:CEST
DTSTART:20240331T010000
END:DAYLIGHT
BEGIN:STANDARD
TZOFFSETFROM:+0200
TZOFFSETTO:+0100
TZNAME:CET
DTSTART:20241027T010000
END:STANDARD
END:VTIMEZONE
BEGIN:VEVENT
DTSTART;TZID=Europe/Bratislava:20240301T190000
DTEND;TZID=Europe/Bratislava:20240301T210000
DTSTAMP:20260426T055320
CREATED:20240229T092351Z
LAST-MODIFIED:20240229T092351Z
UID:20410-1709319600-1709326800@www.sportkosice.sk
SUMMARY:Podpor Pohyb Košice - Futsal Team Levice
DESCRIPTION: | PRIAMY SÚBOJ O 2. MIESTO! \n V šlágri 16. kola Niké Futsal Extraligy privítame aktuálne druhý celok tabuľky Futsal Team Levice\, ktorý ťahá sériu šiestich víťazstiev v rade.\n Zápas sa uskutoční v Starej jazdiarni už tento 𝐩𝐢𝐚𝐭𝐨𝐤 (𝟏.𝟑.𝟐𝟎𝟐𝟒) o 𝟏𝟗:𝟎𝟎. \n Tešiť sa môžete na bohatú tombolu:\n- 𝐞𝐥𝐞𝐤𝐭𝐫𝐨𝐦𝐨𝐛𝐢𝐥 𝐊𝐢𝐚 𝐄𝐕𝟔 𝐆𝐓 𝐋𝐈𝐍𝐄 na víkend od spoločnosti HELP CAR s.r.o.\n- poukaz na 60 minútovú thajskú masáž podľa vlastného výberu v Golden Kinnaree v hodnote 53€\n- poukaz na kompletné čistenie interiéru a exteriéru vozidla od MAX auto s.r.o\n- strihanie\, úprava brady\, zvýraznenie kontúr\, masáž hlavy\, úprava obočia\, drink v BMC Barbershop v hodnote 35€ \n- 30€ poukaz do pivárne BlueBell\n- 30€ poukaz do kaviareň K2\n- 30€ poukaz do internetového obchodu Zdrave-telo.sk\n- poukaz v hodnote 30€ na nákup merchu alebo permanentky od športovo-edukačného centra Davaj Makaj\n- 20€ poukaz do IRON CLUBu\n- lopta Adidas od predajne SPORT PRO \n Vstupné: 𝟓€ (dôchodcovia\, ZŤP\, ženy a deti do 15 rokov vstup zdarma). Súčasťou vstupného sú aj 2 tombolové lístky v hodnote 1€/kus. Ak chcete mať väčšiu šancu na výhru v tombole\, viete si kúpiť tombolový lístok samostatne v cene 1€/kus.\n Cez polčas sa predstaví tanečný súbor SUPRÉMO.\n K dispozícii bude aj bufet\, kde si budete môcť vychutnať čapované pivo\, alko\, nealko a dať si niečo pod zub. \n Live stream: https://bit.ly/3ksYnxO
URL:https://www.sportkosice.sk/podujatie/podpor-pohyb-kosice-futsal-team-levice/
LOCATION:Športová hala Stará jazdiareň\, Pri jazdiarni 1\, Košice\, Košický kraj\, 040 01\, Slovenská republika
CATEGORIES:futsal
ATTACH;FMTTYPE=image/jpeg:https://www.sportkosice.sk/wp-content/uploads/2024/02/429913082_913619640772486_170792898282509141_n.jpg
END:VEVENT
END:VCALENDAR