BEGIN:VCALENDAR
VERSION:2.0
PRODID:-//Šport Košice - ECPv5.10.1//NONSGML v1.0//EN
CALSCALE:GREGORIAN
METHOD:PUBLISH
X-WR-CALNAME:Šport Košice
X-ORIGINAL-URL:https://www.sportkosice.sk
X-WR-CALDESC:Udalosti pre Šport Košice
BEGIN:VTIMEZONE
TZID:Europe/Bratislava
BEGIN:DAYLIGHT
TZOFFSETFROM:+0100
TZOFFSETTO:+0200
TZNAME:CEST
DTSTART:20220327T010000
END:DAYLIGHT
BEGIN:STANDARD
TZOFFSETFROM:+0200
TZOFFSETTO:+0100
TZNAME:CET
DTSTART:20221030T010000
END:STANDARD
END:VTIMEZONE
BEGIN:VEVENT
DTSTART;TZID=Europe/Bratislava:20221210T080000
DTEND;TZID=Europe/Bratislava:20221210T210000
DTSTAMP:20260426T060741
CREATED:20221201T082137Z
LAST-MODIFIED:20221201T082149Z
UID:18743-1670659200-1670706000@www.sportkosice.sk
SUMMARY:NEONKA - SUPER SATURDAY #27
DESCRIPTION:Srdečne Ťa pozývame na Super Saturday #27 - zaži Vianočnú atmosféru v Neonke s nami aj ty!\nVianoce sa blížia a my sme sa rozhodli urobiť si Vianočný Super Saturday\, krásny event kde sa všetci stretneme\, dobre si zacvičíme dáme si Vianočný punč a medovníky a trošku pokecáme a vypnete v spoločnosti príjemných ľudí \n\nČo môžeš v sobotu čakať?\nNOVÉ CHOREOGRAFIE a trošku svalovky\, prečo nie? :)))\nviacerí inštruktori na jednom pódiu s úsmevom na tvári\, ktorí ti rozžiaria deň \nkopa zábavy\, nová hudba\, nové choreo\, nové emócie\npo tréningu Vianočný punč nealko a medovník od nás ako darček \nSuper Saturday #27 v číslach\nBODYPUMP #123 - Začínali sme číslom 91 = 8 rokov skúseností (masaker! :))\nBODYCOMBAT #93 - Začínali sme choreografiou 64 = 7\,25 roka skúseností\nBODYATTACK #118 - Začínali sme choreografiou 91 = 6\,75 roka skúseností\nBODYSTEP #129 - Začínali sme číslom 107 = 5\,5 roka skúseností\nBODYBALANCE #98 - Začínali sme číslom 68 = 7\,5 roka skúseností\nLes Mills CORE #48 - Začínali sme číslom 19 - 7\,25 roka skúseností\nLes Mills BARRE #20 - Začínali sme číslom 4 = 4 roky skúseností\nLes Mills RPM #97 (INDOOR CYCLING) - Začínali sme číslom 82 = 3\,75 roka skúseností\nHIIT tréningy:\nLes Mills GRIT #42 (STRENGTH\, CARDIO\, ATHLETIC) - Začínali sme číslom 12 = 7\,5 roka skúseností\nLes Mills SPRINT #29 (INDOOR CYCLING) - začínali sme číslom 12 = 4\,25 roka skúseností\nIMMERSIVE (ZÁŽITKOVÉ) FITNESS:\nLes Mills THE TRIP #31 (IMMERSIVE FITNESS\, INDOOR CYCLING) - Začínali sme číslom 13 = 4\,75 roka skúseností\n\nSme super tím\, ktorý ťa nenechá v štichu a dokáže ti\, že cvičenie môžeš milovať aj ty a že pohyb môže byť súčasťou každodenného života \nROKY SKUSENOSTÍ HOVORIA za všetko! Sme lídrom v skupinových cvičeniach tu doma\, v Košiciach a tiež na Slovensku. Už 8 rokov s vami!\nPrihlasovanie spustené!\nPrihlás sa na tréning jedným klikom.\nhttps://neonka.sk/sk/C/super-saturday\n\nTešíme sa na Teba!\nNEONKA tím
URL:https://www.sportkosice.sk/podujatie/neonka-super-saturday-27/
LOCATION:NEONKA PREMIUM CLUB – OC Optima\, Moldavská cesta 32\, Košice\, Košický kraj\, 04001\, Slovenská republika
ATTACH;FMTTYPE=image/jpeg:https://www.sportkosice.sk/wp-content/uploads/2022/12/316528716_3433210573559232_969602834314898617_n.jpg
END:VEVENT
END:VCALENDAR