BEGIN:VCALENDAR
VERSION:2.0
PRODID:-//Šport Košice - ECPv5.10.1//NONSGML v1.0//EN
CALSCALE:GREGORIAN
METHOD:PUBLISH
X-WR-CALNAME:Šport Košice
X-ORIGINAL-URL:https://www.sportkosice.sk
X-WR-CALDESC:Udalosti pre Šport Košice
BEGIN:VTIMEZONE
TZID:Europe/Bratislava
BEGIN:DAYLIGHT
TZOFFSETFROM:+0100
TZOFFSETTO:+0200
TZNAME:CEST
DTSTART:20240331T010000
END:DAYLIGHT
BEGIN:STANDARD
TZOFFSETFROM:+0200
TZOFFSETTO:+0100
TZNAME:CET
DTSTART:20241027T010000
END:STANDARD
END:VTIMEZONE
BEGIN:VEVENT
DTSTART;TZID=Europe/Bratislava:20240907T093000
DTEND;TZID=Europe/Bratislava:20240908T180000
DTSTAMP:20260426T024128
CREATED:20240723T070824Z
LAST-MODIFIED:20240723T071053Z
UID:20595-1725701400-1725818400@www.sportkosice.sk
SUMMARY:LETECKÉ DNI KOŠICKÉHO KRAJA 2024
DESCRIPTION:Najväčšia letecká udalosť na Slovensku s bohatou medzinárnodu účasťou so spičkovými akrobatmi. Poznačte si v kalendári 7.-8. September 2024. Letecké Dni Košického kraja ponúkaju dva dni nabitého programu. www.leteckednikosickehokraja.sk \, #LDKK2024 \nEN The biggest aviation event in Slovakia is slowly approaching. A long year of preparations will reaches its peak in just 2 months. The event will traditionally take place on the first weekend of September\, 7-8. September 2024 Don't miss the event\, where we have once again prepared for you a number of unique performances in the air and attractions on the ground!  We look forward to seeing you! The program includes several premieresfor air in Košice\, but also your favorite displays from previous yearsYou can find all the information on our website: www.leteckednikosickehokraja.sk \, where you can already read about the planned displays or other parts of the program. The information will be continuously updated. FB Event: https://www.facebook.com/events/1515654355905356Tickets: https://www.inviton.eu/.../letecke-dni-kosickeho-kraja-2024Partners: https://www.leteckednikosickehokraja.sk/partneri#LDKK2024 #rozhybanykraj #krajsveta #kosiceregionSKNajväčšia letecká udalosť na Slovensku sa pomaly blíži. Dlhý rok príprav vyvrcholí už o 2 mesiace. Podujatie sa uskutoční tradične prvý septembrový víkend a to 7.-8. September 2024 Nenechajte si podujatie\, kde sme pre Vás opäť pripravili množstvo jedinečných vystúpení vo vzduchu a atrakcií na zemi!  Tešíme sa na Vás! Program obsahuje niekoľko premiérpre Košické nebo\, ale aj vaše obľúbené čísla z predchádzajúcich ročníkovVšetky informácie nájdete na našom webe: www.leteckednikosickehokraja.sk \, kde sa už teraz dočítate o plánovaných ukážkach\, či iných častiach programu. Informácie sa budú ešte priebežne aktualizovať. FB Udalosť: https://www.facebook.com/events/1515654355905356Vstupenky: https://www.inviton.eu/.../letecke-dni-kosickeho-kraja-2024Partneri: https://www.leteckednikosickehokraja.sk/partneri#LDKK2024 #rozhybanykraj #krajsveta #kosiceregion @sledovatelia
URL:https://www.sportkosice.sk/podujatie/letecke-dni-kosickeho-kraja-2024/
LOCATION:AEROKLUB KOŠICE\, Letisko Košice\, Košice\, Košický kraj\, 040 17\, Slovenská republika
ATTACH;FMTTYPE=image/jpeg:https://www.sportkosice.sk/wp-content/uploads/2024/07/450467516_496198392972088_3669086369055639610_n-scaled.jpg
END:VEVENT
END:VCALENDAR