BEGIN:VCALENDAR
VERSION:2.0
PRODID:-//Šport Košice - ECPv5.10.1//NONSGML v1.0//EN
CALSCALE:GREGORIAN
METHOD:PUBLISH
X-WR-CALNAME:Šport Košice
X-ORIGINAL-URL:https://www.sportkosice.sk
X-WR-CALDESC:Udalosti pre Šport Košice
BEGIN:VTIMEZONE
TZID:Europe/Bratislava
BEGIN:DAYLIGHT
TZOFFSETFROM:+0100
TZOFFSETTO:+0200
TZNAME:CEST
DTSTART:20240331T010000
END:DAYLIGHT
BEGIN:STANDARD
TZOFFSETFROM:+0200
TZOFFSETTO:+0100
TZNAME:CET
DTSTART:20241027T010000
END:STANDARD
END:VTIMEZONE
BEGIN:VEVENT
DTSTART;TZID=Europe/Bratislava:20240317T140000
DTEND;TZID=Europe/Bratislava:20240317T160000
DTSTAMP:20260426T024028
CREATED:20240313T133849Z
LAST-MODIFIED:20240313T134833Z
UID:20467-1710684000-1710691200@www.sportkosice.sk
SUMMARY:Košice Wolves vs. TSM Slávai Žilina
DESCRIPTION:Odvetná časť začne už túto nedeľu proti tímu ktorý v poslednom kole najviac zamiešal karty\, TSM Slávia Žilina. Tento súboj je na programe o 14:00 v Starej Jazdiarni. Pozývame vás všetkých po nedeľnom obede do haly\, a veríme že aj s vašou pomocou dokážeme udržať našu domácu neporaziteľnosť.\nVstup ZDARMA! 
URL:https://www.sportkosice.sk/podujatie/kosice-wolves-vs-tsm-slavai-zilina/
LOCATION:Športová hala Stará jazdiareň\, Pri jazdiarni 1\, Košice\, Košický kraj\, 040 01\, Slovenská republika
CATEGORIES:basketbal
ATTACH;FMTTYPE=image/jpeg:https://www.sportkosice.sk/wp-content/uploads/2024/03/430091023_819897676822090_7125739666187842554_n.jpg
END:VEVENT
END:VCALENDAR