BEGIN:VCALENDAR
VERSION:2.0
PRODID:-//Šport Košice - ECPv5.10.1//NONSGML v1.0//EN
CALSCALE:GREGORIAN
METHOD:PUBLISH
X-WR-CALNAME:Šport Košice
X-ORIGINAL-URL:https://www.sportkosice.sk
X-WR-CALDESC:Udalosti pre Šport Košice
BEGIN:VTIMEZONE
TZID:Europe/Bratislava
BEGIN:DAYLIGHT
TZOFFSETFROM:+0100
TZOFFSETTO:+0200
TZNAME:CEST
DTSTART:20250330T010000
END:DAYLIGHT
BEGIN:STANDARD
TZOFFSETFROM:+0200
TZOFFSETTO:+0100
TZNAME:CET
DTSTART:20251026T010000
END:STANDARD
END:VTIMEZONE
BEGIN:VEVENT
DTSTART;TZID=Europe/Bratislava:20250821T080000
DTEND;TZID=Europe/Bratislava:20250824T200000
DTSTAMP:20260426T011945
CREATED:20250513T112624Z
LAST-MODIFIED:20250513T112624Z
UID:21206-1755763200-1756065600@www.sportkosice.sk
SUMMARY:KOŠICE HANDBALL CUP 2025
DESCRIPTION:V dynamickom prostredí Košíc\, mesta s bohatou históriou\, sa stretnú tímy z rôznych krajín Európy. Turnaj je určený pre mladšie a staršie žiačky\, ako aj mladších a starších žiakov. Aby spoločne vytvorili atmosféru plnú športovej rivality a fair play. A to nie je všetko! S našou ACTIVITY CARD získate jedinečnú možnosť objaviť krásy Košíc a užiť si množstvo kultúrnych zážitkov. Pripravili sme pre vás bohatý program mimo ihriska\, ktorý vám umožní naplno si vychutnať atmosféru nášho mesta.\nPríďte do Košíc a zažite nielen skvelý hádzanársky turnaj\, ale aj nezabudnuteľné chvíle plné zábavy a kultúry. \nTurnaj je otvorený pre hráčov a hráčky narodených v roku 2011 a neskôr. V každej kategórií môžu štartovať aj mladší hráči a hráčky. Vek hráčov nesmie prekročiť hornú vekovú hranicu v každej kategórii. Každý hráč môže štartovať len za jeden tím a iba v jednej vekovej kategórii. \nHádzanársky turnaj sa bude hrať podľa platných pravidiel Európskej hádzanárskej federácie (EHF). Tieto pravidlá sa týkajú všetkých aspektov hry\, vrátane pravidiel o fauloch\, rozohrávke\, pravidlách striedania hráčov a ďalších technických detailoch. Každý tím\, ktorý sa zúčastní turnaja\, musí zabezpečiť\, že jeho hráči sú oboznámení a dodržiavajú tieto pravidlá počas celého priebehu podujatia. \nUsporiadateľ turnaja si vyhradzuje právo výberu účastníkov. \nZápasy sa odohrajú v štyroch moderných resp. zmodernyzovaných halách v Košiciach\, ktoré spĺňajú najvyššie štandardy a zabezpečujú ideálne podmienky pre hádzanú. Všetky haly majú ihrisko s oficiálnymi rozmermi 20x40 metrov a tribúnu pre divákov. V každej z hál budú umiestnené stánky alebo bufety s občerstvením\, aby si návštevníci mohli vychutnať občerstvenie počas celého turnaja.
URL:https://www.sportkosice.sk/podujatie/kosice-handball-cup-2025/
LOCATION:Košice\, Košice\, Košický kraj\, 04001\, Slovenská republika
CATEGORIES:hadzana
ATTACH;FMTTYPE=image/jpeg:https://www.sportkosice.sk/wp-content/uploads/2025/05/490404621_122127198656788093_1446948498224454570_n.jpg
END:VEVENT
END:VCALENDAR