BEGIN:VCALENDAR
VERSION:2.0
PRODID:-//Šport Košice - ECPv5.10.1//NONSGML v1.0//EN
CALSCALE:GREGORIAN
METHOD:PUBLISH
X-WR-CALNAME:Šport Košice
X-ORIGINAL-URL:https://www.sportkosice.sk
X-WR-CALDESC:Udalosti pre Šport Košice
BEGIN:VTIMEZONE
TZID:Europe/Bratislava
BEGIN:DAYLIGHT
TZOFFSETFROM:+0100
TZOFFSETTO:+0200
TZNAME:CEST
DTSTART:20200329T010000
END:DAYLIGHT
BEGIN:STANDARD
TZOFFSETFROM:+0200
TZOFFSETTO:+0100
TZNAME:CET
DTSTART:20201025T010000
END:STANDARD
END:VTIMEZONE
BEGIN:VEVENT
DTSTART;TZID=Europe/Bratislava:20200807T163000
DTEND;TZID=Europe/Bratislava:20200807T193000
DTSTAMP:20260426T014522
CREATED:20200803T115115Z
LAST-MODIFIED:20200803T125636Z
UID:11753-1596817800-1596828600@www.sportkosice.sk
SUMMARY:KEĎ MÔŽEM ŠPORTUJEM XVIII. - BEACH VOLEJBAL
DESCRIPTION:Leto je v plnom prúde\, potíme sa len tak samovoľne. Nie je to úplne príjemný pocit. Oveľa lepší je totiž\, ak sa potíme pri športovom výkone. Pozývame vás teda na parádny plážový volejbal v aréali KVP Čičky.\nPre veľký úspech sme sa rozhodli dopriať si opäť pohodovú atmosféru pri nohách v piesku a slnkom nad hlavou. K tomu parádne občerstvenie\, takže tradičná TLAČOVKA opäť zaiste prinesie poznania\, ktoré pretransformujú náš doterajší pohľad na svet.\nSte vítaní\, dôjdite si s nami zahrať a občerstviť sa! Budeme radi 🙂 \nTento projekt robíme vďaka ACF Funds a Karpatskej nadácii a my im zato krásne ďakujeme!
URL:https://www.sportkosice.sk/podujatie/ked-mozem-sportujem-xviii-beach-volejbal/
LOCATION:ČIČKY-AREÁL\, Čičky Majer - KVP\, Košice\, Košický kraj\, 04023\, Slovenská republika
ATTACH;FMTTYPE=image/jpeg:https://www.sportkosice.sk/wp-content/uploads/2020/08/116350128_3119670771403042_422762073878497169_n.jpg
END:VEVENT
END:VCALENDAR