BEGIN:VCALENDAR
VERSION:2.0
PRODID:-//Šport Košice - ECPv5.10.1//NONSGML v1.0//EN
CALSCALE:GREGORIAN
METHOD:PUBLISH
X-WR-CALNAME:Šport Košice
X-ORIGINAL-URL:https://www.sportkosice.sk
X-WR-CALDESC:Udalosti pre Šport Košice
BEGIN:VTIMEZONE
TZID:Europe/Bratislava
BEGIN:DAYLIGHT
TZOFFSETFROM:+0100
TZOFFSETTO:+0200
TZNAME:CEST
DTSTART:20200329T010000
END:DAYLIGHT
BEGIN:STANDARD
TZOFFSETFROM:+0200
TZOFFSETTO:+0100
TZNAME:CET
DTSTART:20201025T010000
END:STANDARD
END:VTIMEZONE
BEGIN:VEVENT
DTSTART;TZID=Europe/Bratislava:20200822T100000
DTEND;TZID=Europe/Bratislava:20200822T150000
DTSTAMP:20260426T050332
CREATED:20200818T131648Z
LAST-MODIFIED:20200820T111416Z
UID:11991-1598090400-1598108400@www.sportkosice.sk
SUMMARY:JAZERNÁ DESIATKA - 5. KOLO SLOVENSKÉHO POHÁRA V DP
DESCRIPTION:Propozície na stiahnutie: \n2020-08-22-spdp-jazerna-desiatka
URL:https://www.sportkosice.sk/podujatie/jazerna-desiatka-5-kolo-slovenskeho-pohara-v-dp/
LOCATION:Mestská časť Košice – Sídlisko Nad jazerom\, Košice - Nad jazerom\, Košický kraj\, Slovenská republika
ATTACH;FMTTYPE=image/jpeg:https://www.sportkosice.sk/wp-content/uploads/2020/08/jazerna-desiatka-2020-01.jpg
END:VEVENT
END:VCALENDAR