BEGIN:VCALENDAR
VERSION:2.0
PRODID:-//Šport Košice - ECPv5.10.1//NONSGML v1.0//EN
CALSCALE:GREGORIAN
METHOD:PUBLISH
X-WR-CALNAME:Šport Košice
X-ORIGINAL-URL:https://www.sportkosice.sk
X-WR-CALDESC:Udalosti pre Šport Košice
BEGIN:VTIMEZONE
TZID:Europe/Bratislava
BEGIN:DAYLIGHT
TZOFFSETFROM:+0100
TZOFFSETTO:+0200
TZNAME:CEST
DTSTART:20230326T010000
END:DAYLIGHT
BEGIN:STANDARD
TZOFFSETFROM:+0200
TZOFFSETTO:+0100
TZNAME:CET
DTSTART:20231029T010000
END:STANDARD
END:VTIMEZONE
BEGIN:VEVENT
DTSTART;TZID=Europe/Bratislava:20230324T180000
DTEND;TZID=Europe/Bratislava:20230324T213000
DTSTAMP:20260426T055528
CREATED:20230324T095118Z
LAST-MODIFIED:20230324T101411Z
UID:19416-1679680800-1679693400@www.sportkosice.sk
SUMMARY:IV. štvrťfinále Slovenskej extraligy mužov HC KOŠICE – HK NITRA
DESCRIPTION:Oceliari majú v piatok v domácom prostredí k dispozícii prvý postupový matchball \n\n\n\nChlapci budú potrebovať každého jedného z Vás \n\n\n\n Niekoľko voľných vstupeniek stále k dispozícii na : https://vstupenky.hckosice.sk/#/
URL:https://www.sportkosice.sk/podujatie/iv-stvrtfinale-slovenskej-extraligy-muzov-hc-kosice-hk-nitra/
LOCATION:STEEL ARENA\, Nerudova 12\, Košice\, 04001\, Slovenská republika
CATEGORIES:hokej
ATTACH;FMTTYPE=image/png:https://www.sportkosice.sk/wp-content/uploads/2023/03/336885637_1680822805679505_8607550518136536763_n.png
END:VEVENT
END:VCALENDAR