BEGIN:VCALENDAR
VERSION:2.0
PRODID:-//Šport Košice - ECPv5.10.1//NONSGML v1.0//EN
CALSCALE:GREGORIAN
METHOD:PUBLISH
X-WR-CALNAME:Šport Košice
X-ORIGINAL-URL:https://www.sportkosice.sk
X-WR-CALDESC:Udalosti pre Šport Košice
BEGIN:VTIMEZONE
TZID:Europe/Bratislava
BEGIN:DAYLIGHT
TZOFFSETFROM:+0100
TZOFFSETTO:+0200
TZNAME:CEST
DTSTART:20230326T010000
END:DAYLIGHT
BEGIN:STANDARD
TZOFFSETFROM:+0200
TZOFFSETTO:+0100
TZNAME:CET
DTSTART:20231029T010000
END:STANDARD
END:VTIMEZONE
BEGIN:VEVENT
DTSTART;TZID=Europe/Bratislava:20230416T110000
DTEND;TZID=Europe/Bratislava:20230416T130000
DTSTAMP:20260426T054616
CREATED:20230413T100738Z
LAST-MODIFIED:20230413T100738Z
UID:19538-1681642800-1681650000@www.sportkosice.sk
SUMMARY:III. Slovenská futbalová liga - VÝCHOD\, FK SLÁVIA TU KOŠICE - MŠK Námestovo
DESCRIPTION:HURÁ NA LIGU\n\n\n\nPríďte nás podporiť \n\n\nSlávia\, do toho
URL:https://www.sportkosice.sk/podujatie/iii-slovenska-futbalova-liga-vychod-fk-slavia-tu-kosice-msk-namestovo/
LOCATION:ATLETICKÝ ŠTADIÓN TU WATSONOVÁ KOŠICE\, Watsonova\, Košice\, Košický kraj\, 04001\, Slovenská republika
CATEGORIES:futbal
ATTACH;FMTTYPE=image/jpeg:https://www.sportkosice.sk/wp-content/uploads/2023/02/341178365_251898310610109_4792598439322940932_n.jpg
END:VEVENT
END:VCALENDAR