BEGIN:VCALENDAR
VERSION:2.0
PRODID:-//Šport Košice - ECPv5.10.1//NONSGML v1.0//EN
CALSCALE:GREGORIAN
METHOD:PUBLISH
X-WR-CALNAME:Šport Košice
X-ORIGINAL-URL:https://www.sportkosice.sk
X-WR-CALDESC:Udalosti pre Šport Košice
BEGIN:VTIMEZONE
TZID:Europe/Bratislava
BEGIN:DAYLIGHT
TZOFFSETFROM:+0100
TZOFFSETTO:+0200
TZNAME:CEST
DTSTART:20230326T010000
END:DAYLIGHT
BEGIN:STANDARD
TZOFFSETFROM:+0200
TZOFFSETTO:+0100
TZNAME:CET
DTSTART:20231029T010000
END:STANDARD
END:VTIMEZONE
BEGIN:VEVENT
DTSTART;TZID=Europe/Bratislava:20230318T173000
DTEND;TZID=Europe/Bratislava:20230318T210000
DTSTAMP:20260426T055325
CREATED:20230317T133308Z
LAST-MODIFIED:20230317T133308Z
UID:19404-1679160600-1679173200@www.sportkosice.sk
SUMMARY:II. štvrťfinále Slovenskej extraligy mužov HC KOŠICE - HK NITRA
DESCRIPTION:V domácom prostredí dnes začíname našu cestu vyraďovacou časťou \n\n\n\nO 18-tej hodine bude vhodené úvodné buly\, pred ktorým si ešte preberieme Pohár Dušana Pašeka za víťazstvo v základnej časti \n\n\n\n Vstupenky stále dostupné na : https://vstupenky.hckosice.sk/#/\n\n\n\n\n\n\n\nTešíme sa na vašu návštevu. Košice do toho!\n\n\n\n#hckosice #mysmehckosice #hcke #keway #hckosiceofficial
URL:https://www.sportkosice.sk/podujatie/ii-stvrtfinale-slovenskej-extraligy-muzov-hc-kosice-hk-nitra/
LOCATION:STEEL ARENA\, Nerudova 12\, Košice\, 04001\, Slovenská republika
CATEGORIES:hokej
ATTACH;FMTTYPE=image/png:https://www.sportkosice.sk/wp-content/uploads/2023/03/336741878_2320022441512141_4770131806569884280_n.png
END:VEVENT
END:VCALENDAR