BEGIN:VCALENDAR
VERSION:2.0
PRODID:-//Šport Košice - ECPv5.10.1//NONSGML v1.0//EN
CALSCALE:GREGORIAN
METHOD:PUBLISH
X-WR-CALNAME:Šport Košice
X-ORIGINAL-URL:https://www.sportkosice.sk
X-WR-CALDESC:Udalosti pre Šport Košice
BEGIN:VTIMEZONE
TZID:Europe/Bratislava
BEGIN:DAYLIGHT
TZOFFSETFROM:+0100
TZOFFSETTO:+0200
TZNAME:CEST
DTSTART:20230326T010000
END:DAYLIGHT
BEGIN:STANDARD
TZOFFSETFROM:+0200
TZOFFSETTO:+0100
TZNAME:CET
DTSTART:20231029T010000
END:STANDARD
END:VTIMEZONE
BEGIN:VEVENT
DTSTART;TZID=Europe/Bratislava:20230422T110000
DTEND;TZID=Europe/Bratislava:20230422T130000
DTSTAMP:20260426T051309
CREATED:20230308T153807Z
LAST-MODIFIED:20230308T153807Z
UID:19239-1682161200-1682168400@www.sportkosice.sk
SUMMARY:II. Slovenská futbalová liga ženy FC Košice - MŠK Fomat Martin
DESCRIPTION:
URL:https://www.sportkosice.sk/podujatie/ii-slovenska-futbalova-liga-zeny-fc-kosice-msk-fomat-martin/
LOCATION:ŠTADIÓN LOKOMOTÍVA KOŠICE\, Košický kraj
CATEGORIES:futbal
ATTACH;FMTTYPE=image/png:https://www.sportkosice.sk/wp-content/uploads/2023/03/fc-zeny-martin.png
END:VEVENT
END:VCALENDAR