BEGIN:VCALENDAR
VERSION:2.0
PRODID:-//Šport Košice - ECPv5.10.1//NONSGML v1.0//EN
CALSCALE:GREGORIAN
METHOD:PUBLISH
X-WR-CALNAME:Šport Košice
X-ORIGINAL-URL:https://www.sportkosice.sk
X-WR-CALDESC:Udalosti pre Šport Košice
BEGIN:VTIMEZONE
TZID:Europe/Bratislava
BEGIN:DAYLIGHT
TZOFFSETFROM:+0100
TZOFFSETTO:+0200
TZNAME:CEST
DTSTART:20230326T010000
END:DAYLIGHT
BEGIN:STANDARD
TZOFFSETFROM:+0200
TZOFFSETTO:+0100
TZNAME:CET
DTSTART:20231029T010000
END:STANDARD
END:VTIMEZONE
BEGIN:VEVENT
DTSTART;TZID=Europe/Bratislava:20230329T180000
DTEND;TZID=Europe/Bratislava:20230329T200000
DTSTAMP:20260426T061933
CREATED:20230331T075930Z
LAST-MODIFIED:20230331T075930Z
UID:19459-1680112800-1680120000@www.sportkosice.sk
SUMMARY:II. 1/4 FINÁLE PLAYOFF HANDBALL EXTRALIGA HK KOŠICE - MHC ŠTART NOVÉ ZÁMKY
DESCRIPTION:Príďte nás povzbudiť do haly ZŠ Bernoláková na druhý zápas play-off proti Nové Zámky. \nPostup máme vo svojich rukách. Stav série 1:0 pre HK Košice.  \nSleduj live: http://bit.ly/3Vvwmmy
URL:https://www.sportkosice.sk/podujatie/ii-1-4-finale-playoff-handball-extraliga-hk-kosice-mhc-start-nove-zamky/
LOCATION:HANDBALL ARENA – Bernolákova 16\, Bernoláková 16\, Košice\, Košický kraj\, 04001\, Slovenská republika
CATEGORIES:hadzana
ATTACH;FMTTYPE=image/jpeg:https://www.sportkosice.sk/wp-content/uploads/2023/03/337708906_2457306107753226_1740440083126006074_n.jpg
END:VEVENT
END:VCALENDAR