BEGIN:VCALENDAR
VERSION:2.0
PRODID:-//Šport Košice - ECPv5.10.1//NONSGML v1.0//EN
CALSCALE:GREGORIAN
METHOD:PUBLISH
X-WR-CALNAME:Šport Košice
X-ORIGINAL-URL:https://www.sportkosice.sk
X-WR-CALDESC:Udalosti pre Šport Košice
BEGIN:VTIMEZONE
TZID:Europe/Bratislava
BEGIN:DAYLIGHT
TZOFFSETFROM:+0100
TZOFFSETTO:+0200
TZNAME:CEST
DTSTART:20230326T010000
END:DAYLIGHT
BEGIN:STANDARD
TZOFFSETFROM:+0200
TZOFFSETTO:+0100
TZNAME:CET
DTSTART:20231029T010000
END:STANDARD
END:VTIMEZONE
BEGIN:VEVENT
DTSTART;TZID=Europe/Bratislava:20230422T110000
DTEND;TZID=Europe/Bratislava:20230422T133000
DTSTAMP:20260426T032636
CREATED:20230307T141853Z
LAST-MODIFIED:20230307T141853Z
UID:19201-1682161200-1682170200@www.sportkosice.sk
SUMMARY:I. liga U19 starší dorast FC KOŠICE - SPARTAK TRNAVA
DESCRIPTION:#fckosice #vss #u19 #vsetcispolusilnejsi #yellowbluefamily #kosice #kosicecity #futball #futebol #futbal
URL:https://www.sportkosice.sk/podujatie/i-liga-u19-starsi-dorast-fc-kosice-spartak-trnava/
LOCATION:Futbalové ihrisko Golianová ulica\, Krásna\, Golianova 25\, Košice\, Košický kraj\, 04018
CATEGORIES:futbal
ATTACH;FMTTYPE=image/png:https://www.sportkosice.sk/wp-content/uploads/2023/03/fc-spartak-trnava.png
END:VEVENT
END:VCALENDAR