BEGIN:VCALENDAR
VERSION:2.0
PRODID:-//Šport Košice - ECPv5.10.1//NONSGML v1.0//EN
CALSCALE:GREGORIAN
METHOD:PUBLISH
X-WR-CALNAME:Šport Košice
X-ORIGINAL-URL:https://www.sportkosice.sk
X-WR-CALDESC:Udalosti pre Šport Košice
BEGIN:VTIMEZONE
TZID:Europe/Bratislava
BEGIN:DAYLIGHT
TZOFFSETFROM:+0100
TZOFFSETTO:+0200
TZNAME:CEST
DTSTART:20240331T010000
END:DAYLIGHT
BEGIN:STANDARD
TZOFFSETFROM:+0200
TZOFFSETTO:+0100
TZNAME:CET
DTSTART:20241027T010000
END:STANDARD
END:VTIMEZONE
BEGIN:VEVENT
DTSTART;TZID=Europe/Bratislava:20240314T173000
DTEND;TZID=Europe/Bratislava:20240314T190000
DTSTAMP:20260426T042033
CREATED:20240313T135920Z
LAST-MODIFIED:20240313T135920Z
UID:20473-1710437400-1710442800@www.sportkosice.sk
SUMMARY:HK KOŠICE VS. ŠK ZEMPLÍN TREBIŠOV
DESCRIPTION:ajtra 14.3.2024 o 17:30 odohráme prípravný zápas. Naše mužstvo si zmeria sily s novovznikajúcim tímom mužov ŠK Zemplín Trebišov\, ktorý sa pripravuje na nový ročník 1. Ligy. Stretnutie sa odohrá v hale ZŠ Bernolákova 16\, Košice vstup zdarma. Šport Košice Košice - Mesto Košice Šport v Košiciach #hadzana #handball
URL:https://www.sportkosice.sk/podujatie/hk-kosice-vs-sk-zemplin-trebisov/
LOCATION:HANDBALL ARENA – Bernolákova 16\, Bernoláková 16\, Košice\, Košický kraj\, 04001\, Slovenská republika
CATEGORIES:hadzana
ATTACH;FMTTYPE=image/jpeg:https://www.sportkosice.sk/wp-content/uploads/2024/03/431880691_860093819255432_3696878536737121339_n.jpg
END:VEVENT
END:VCALENDAR