BEGIN:VCALENDAR
VERSION:2.0
PRODID:-//Šport Košice - ECPv5.10.1//NONSGML v1.0//EN
CALSCALE:GREGORIAN
METHOD:PUBLISH
X-WR-CALNAME:Šport Košice
X-ORIGINAL-URL:https://www.sportkosice.sk
X-WR-CALDESC:Udalosti pre Šport Košice
BEGIN:VTIMEZONE
TZID:Europe/Bratislava
BEGIN:DAYLIGHT
TZOFFSETFROM:+0100
TZOFFSETTO:+0200
TZNAME:CEST
DTSTART:20240331T010000
END:DAYLIGHT
BEGIN:STANDARD
TZOFFSETFROM:+0200
TZOFFSETTO:+0100
TZNAME:CET
DTSTART:20241027T010000
END:STANDARD
END:VTIMEZONE
BEGIN:VEVENT
DTSTART;TZID=Europe/Bratislava:20240301T173000
DTEND;TZID=Europe/Bratislava:20240301T203000
DTSTAMP:20260426T024028
CREATED:20231228T122108Z
LAST-MODIFIED:20231228T122152Z
UID:19971-1709314200-1709325000@www.sportkosice.sk
SUMMARY:HC KOŠICE - HK SPIŠSKÁ NOVÁ VES
DESCRIPTION:
URL:https://www.sportkosice.sk/podujatie/hc-kosice-hk-spisska-nova-ves-2/
LOCATION:STEEL ARENA\, Nerudova 12\, Košice\, 04001\, Slovenská republika
CATEGORIES:hokej
ATTACH;FMTTYPE=image/png:https://www.sportkosice.sk/wp-content/uploads/2023/12/48.-KOLO-HC-KOsICE.png
END:VEVENT
END:VCALENDAR