BEGIN:VCALENDAR
VERSION:2.0
PRODID:-//Šport Košice - ECPv5.10.1//NONSGML v1.0//EN
CALSCALE:GREGORIAN
METHOD:PUBLISH
X-WR-CALNAME:Šport Košice
X-ORIGINAL-URL:https://www.sportkosice.sk
X-WR-CALDESC:Udalosti pre Šport Košice
BEGIN:VTIMEZONE
TZID:Europe/Bratislava
BEGIN:DAYLIGHT
TZOFFSETFROM:+0100
TZOFFSETTO:+0200
TZNAME:CEST
DTSTART:20240331T010000
END:DAYLIGHT
BEGIN:STANDARD
TZOFFSETFROM:+0200
TZOFFSETTO:+0100
TZNAME:CET
DTSTART:20241027T010000
END:STANDARD
END:VTIMEZONE
BEGIN:VEVENT
DTSTART;TZID=Europe/Bratislava:20240308T180000
DTEND;TZID=Europe/Bratislava:20240308T210000
DTSTAMP:20260426T024028
CREATED:20231228T122510Z
LAST-MODIFIED:20240308T122153Z
UID:19972-1709920800-1709931600@www.sportkosice.sk
SUMMARY:HC KOŠICE - HK DUKLA TRENČÍN
DESCRIPTION: Základnú časť ukončíme na domácom ľade proti Dukle Trenčín  \n Do Siene slávy košického hokeja budú uvedení bratia Lukáčovci a slávnostný ceremoniál sa začne už o 17:35!  \nV piatok 8. 3. budú pred zápasom proti HK Dukla Trenčín uvedení do Siene slávy bratia Vincent\, Jozef a Imrich (in memoriam) Lukáčovci. Slávnostný ceremoniál začne už o 17:35. \nLegendárne bratské trio sa v 70-tych a 80-tych rokoch staralo o vysoký podiel košických gólov v najvyššej federálnej súťaži. V jednom útoku odohrali 6 sezón\, v jednej z nich nastrieľali viac ako polovicu všetkých gólov. Ich príbeh je jedinečnou súčasťou histórie košického hokeja. Príďte aj vy vzdať úctu a poďakovať za nádherné spomienky na dávne hokejové časy. \nVrchné sektory sú otvorené\, vstupenky v predaji na https://vstupenky.hckosice.sk/ \nZdieľajte túto pozvánku\, do komentára uveďte #bratialukacovci #dakujeme . Vo štvrtok večer vyžrebujeme 3 z vás\, ktorí získajú po 2 vstupenky na posledný zápas základnej časti. \nProgram ceremoniálu: https://www.hckosice.sk/.../program-ceremonialu-uvedenia...
URL:https://www.sportkosice.sk/podujatie/hc-kosice-hk-dukla-trencin/
LOCATION:STEEL ARENA\, Nerudova 12\, Košice\, 04001\, Slovenská republika
CATEGORIES:hokej
ATTACH;FMTTYPE=image/jpeg:https://www.sportkosice.sk/wp-content/uploads/2023/12/432237084_913351944129406_5972589780934630687_n.jpg
END:VEVENT
END:VCALENDAR