BEGIN:VCALENDAR
VERSION:2.0
PRODID:-//Šport Košice - ECPv5.10.1//NONSGML v1.0//EN
CALSCALE:GREGORIAN
METHOD:PUBLISH
X-WR-CALNAME:Šport Košice
X-ORIGINAL-URL:https://www.sportkosice.sk
X-WR-CALDESC:Udalosti pre Šport Košice
BEGIN:VTIMEZONE
TZID:Europe/Bratislava
BEGIN:DAYLIGHT
TZOFFSETFROM:+0100
TZOFFSETTO:+0200
TZNAME:CEST
DTSTART:20240331T010000
END:DAYLIGHT
BEGIN:STANDARD
TZOFFSETFROM:+0200
TZOFFSETTO:+0100
TZNAME:CET
DTSTART:20241027T010000
END:STANDARD
END:VTIMEZONE
BEGIN:VEVENT
DTSTART;TZID=Europe/Bratislava:20240319T180000
DTEND;TZID=Europe/Bratislava:20240319T203000
DTSTAMP:20260426T041927
CREATED:20240313T144158Z
LAST-MODIFIED:20240313T144158Z
UID:20495-1710871200-1710880200@www.sportkosice.sk
SUMMARY:HC KOŠICE - HC SLOVAN BRATISLAVA
DESCRIPTION:INFO A SÚŤAŽ: Predaj vstupeniek na štvrťfinále spustený \n\n\n\nVážení fanúšikovia\,\n\n\npredaj vstupeniek na štvrťfinálové zápasy Tipos Extraligy proti HC Slovan Bratislava (v pondelok 18. 3. o 18:00 a utorok 19. 3. o 18:00) bol spustený.\n\n\n\nVstupenky si môžete kúpiť na stránke https://vstupenky.hckosice.sk/#/\n\n\n\n SÚŤAŽ: Zdieľajte tento príspevok a v komentári uveďte #mysmehckosice .\n\n\n\nVo štvrtok večer v komentári uverejníme 3 víťazov 2 vstupeniek na zápas 18. 3.\n\n\n\nĎakujeme za podporu a tešíme sa na vašu návštevu.\n\n\n\n#hckosice #hckosiceofficial #mysmehckosice #keway #hcke
URL:https://www.sportkosice.sk/podujatie/hc-kosice-hc-slovan-bratislava-2/
LOCATION:STEEL ARENA\, Nerudova 12\, Košice\, 04001\, Slovenská republika
CATEGORIES:hokej
ATTACH;FMTTYPE=image/jpeg:https://www.sportkosice.sk/wp-content/uploads/2024/03/419067139_915352467262687_8579859501748167083_n.jpg
END:VEVENT
END:VCALENDAR