BEGIN:VCALENDAR
VERSION:2.0
PRODID:-//Šport Košice - ECPv5.10.1//NONSGML v1.0//EN
CALSCALE:GREGORIAN
METHOD:PUBLISH
X-WR-CALNAME:Šport Košice
X-ORIGINAL-URL:https://www.sportkosice.sk
X-WR-CALDESC:Udalosti pre Šport Košice
BEGIN:VTIMEZONE
TZID:Europe/Bratislava
BEGIN:DAYLIGHT
TZOFFSETFROM:+0100
TZOFFSETTO:+0200
TZNAME:CEST
DTSTART:20240331T010000
END:DAYLIGHT
BEGIN:STANDARD
TZOFFSETFROM:+0200
TZOFFSETTO:+0100
TZNAME:CET
DTSTART:20241027T010000
END:STANDARD
END:VTIMEZONE
BEGIN:VEVENT
DTSTART;TZID=Europe/Bratislava:20240202T173000
DTEND;TZID=Europe/Bratislava:20240202T203000
DTSTAMP:20260426T042204
CREATED:20231228T120356Z
LAST-MODIFIED:20240202T103420Z
UID:19959-1706895000-1706905800@www.sportkosice.sk
SUMMARY:HC KOŠICE - HC `05 BANSKÁ BYSTRICA
DESCRIPTION:Prvý februárový víkend nám prinesie domáci dvojzápas. V tom prvom v piatok 02. februára o 18:00 privítame na ľade v Steel Aréne súpera z Banskej Bystrice. Nedeľný súboj prinesie šláger proti Popradu. \nVstupenky na obe stretnutia TU. \n\nHC ´05 Banská Bystrica \nV mužstve baranov nastalo v januári niekoľko zmien. Tím sa rozlúčil so zámorskými hráčmi Bode Wilde a Luke Adam. Včera oznámil klub aj odchod českého obrancu Petra Senkeříka do Třinca. \nVrámci výmeny s Popradom sa porúčal Filip Belányi a pod Urpín prišiel Eugen Rabčan. V prvom mesiaci tohto roku tím angažoval Chrisa Langkowa\, ktorý začal sezónu vo Zvolene. \nZ posledných piatich stretnutí bodovali Bystričania dvakrát\, a to po víťazstvách doma proti Spišskej Nove Vsi a v Nitre. Naposledy sa v nedeľu predstavili v Trenčíne\, kde nedokázali skórovať a prehrali 0:3. \nNajproduktívnejšími hráčmi mužstva sú z krajiny javorových listov. Bývalý zvolenský hráč Carter Turnbull nazbieral najviac bodov a v priemere má 1\,39 bodu na zápas 43B (19G-24A). Zároveň je aj najlepším strelcom mužstva. O dva body menej má Marcus Vela 41B (17G-24A). Trojicu najproduktívnejších hráčov uzatvára  Mathew Wilkins 38B (13G-25A). \nZo Slovákov má najviac bodov obranca Patrik Bačik 23B (6G-17A). \nBanská Bystrica je tretím najlepším tímom v oslabeniach. Túto štatistiku vedú naši oceliari. \nZaujímavosť: Útočník Marcus Vela dostal v prebiehajúcej sezóne spomedzi všetkých hráčov Tipos extraligy najviac trestných minút v jednom zápase (50). \nPosledný zápas: \nHK Dukla Trenčín - HC ‘05 Banská Bystrica 3:0 (1:0\, 0:0\, 2:0) \nGóly a asistencie: 3. Ahl (Kielb\, Giľák)\, 57. Charbonneau (D. Hudec\, Eriksson Immo)\, 59. Baláž \nZostava z posledného zápasu: \nBelányi (Krošelj) – Bačík\, Šenkeřík\, Hora\, D. Stránský\, Ďatelinka\, Luža\, Žabka – Wilkins\, Langkow\, Turnbull – Gašpar\, Bíreš\, Matoušek – Petriska\, Faith\, Výhonský – Macek\, A. Stránský\, Štrauch \nPostavenie v tabuľke: 6. miesto (61b) \n\nVzájomné zápasy Tipos extraliga 2023/2024: \n2. kolo \nHC Košice - HC '05 Banská Bystrica 5:1 (2:1\, 3:0\, 0:0) \nGóly a asistencie: 2. Krivošík (Pollock\, Berger)\, 11. Jääskeläinen (Deyl\, Bartoš)\, 23. Jääskeläinen (Lamper)\, 31. Breton (Fejes\, Bartánus)\, 37. Breton (Jääskeläinen\, Lamper) - 10. Vela (Stránsky) \n13. kolo \nHC '05 Banská Bystrica – HC Košice 3:2sn (1:1\, 0:0\, 1:1 – 0:0\, 1:0) \nGóly a asistencie: 3. R. Faith (Hora\, Bačík)\, 58. Žitný (Vela\, Adam)\, 65. rozh. nájazd Gašpar – 16. Fejes (Pollock)\, 42. Pollock (Jääskeläinen) \n24. kolo \nHC ´05 Banská Bystrica - HC Košice 2:1 (1:0\, 0:0\, 1:1) \nGóly a asistencie: 1. Petriska (D. Stránsky\, R. Faith)\, 55. Bačík (Gašpar) - 51. Breton (Berger) \n\nHC Košice \nOceliari mali úspešný šesťbodový víkend\, keď vyhrali v Trenčíne a doma proti Humennému. Včerajšia dohrávka 33. kola im však nevyšla a v Michalovciach prehrali 0:3. Košiciam ale chýbalo niekoľko hráčov zo základnej zostavy a šancu dostali iní hráči. Premiéru v košickom drese zažili Tobias Faith a Martin Semaňák. \nDarilo sa Hunterovi Fejesovi\, ktorý počas posledného víkendu strelil 3 góly a jedenkrát asistoval. Stále je našim najproduktívnejším hráčom a najlepším strelcom 40B (20G-20A). Druhý v produktivite\, obranca  Alex Breton\, získal 34B (12G-22A). Kanaďan Brett Pollock má o bod menej ako jeho krajan Breton 33B (15G-18A). \nNajproduktívnejší Slovák je kapitán Michal Chovan 16B (3G-13A). \nV našom tíme sa nachádza niekoľko hráčov s banskobystrickou minulosťou. Okrem odchovancov Patrika Lampera\, Tomáša Ziga a Mária Luntera si dres nášho najbližšieho súpera obliekali Alex Breton\, Vladimír Mihalik\, Joona Jääskeläinen\, Chase Berger a Marek Bartánus. Niekoľko stretnutí odohrali Eduard Šimun (18) a Marek Slovák (5). V Banskej Bystrici pôsobil aj tréner Dan Ceman. \nPosledný zápas: \nHK Dukla Ingema Michalovce - HC Košice 3:0 (1:0\, 1:0\, 1:0) \nGóly a asistencie: 13. Wilkins (Newton)\, 33. Bindulis (Daugavinš\, Santos)\, 41. Santos (Bindulis\, Newton) \nZostava z posledného zápasu: \nRiečický (Janus) - Olsson\, Breton\, A. Bartoš\, Zech\, Dravecký\, Šedivý - Jääskeläinen\, Pollock\, Fejes - Lunter\, Berger\, Chovan - Rogoň\, Slovák\, Jokeľ - Bačo\, Havrila\, T. Faith \nPostavenie v tabuľke: 3. miesto (69b) \n\nNajbližší program Oceliarov: \nNedeľa 04.02.2024 o 17:00 HC Košice vs. HK Poprad – vstupenky TU \nStreda 14.02.2024 o 18:00 HC MIKRON Nové Zámky vs. HC Košice \nPiatok 16.02.2024 o 18:00 MHk 32 Liptovský Mikuláš vs. HC Košice \n  \nZdroj: https://www.hckosice.sk/ \n 
URL:https://www.sportkosice.sk/podujatie/hc-kosice-hc-05-banska-bystrica-2/
LOCATION:STEEL ARENA\, Nerudova 12\, Košice\, 04001\, Slovenská republika
CATEGORIES:hokej
ATTACH;FMTTYPE=image/jpeg:https://www.sportkosice.sk/wp-content/uploads/2023/12/417437770_886091906855410_4971887956822425805_n.jpg
END:VEVENT
END:VCALENDAR