BEGIN:VCALENDAR
VERSION:2.0
PRODID:-//Šport Košice - ECPv5.10.1//NONSGML v1.0//EN
CALSCALE:GREGORIAN
METHOD:PUBLISH
X-WR-CALNAME:Šport Košice
X-ORIGINAL-URL:https://www.sportkosice.sk
X-WR-CALDESC:Udalosti pre Šport Košice
BEGIN:VTIMEZONE
TZID:Europe/Bratislava
BEGIN:DAYLIGHT
TZOFFSETFROM:+0100
TZOFFSETTO:+0200
TZNAME:CEST
DTSTART:20240331T010000
END:DAYLIGHT
BEGIN:STANDARD
TZOFFSETFROM:+0200
TZOFFSETTO:+0100
TZNAME:CET
DTSTART:20241027T010000
END:STANDARD
END:VTIMEZONE
BEGIN:VEVENT
DTSTART;TZID=Europe/Bratislava:20240303T180000
DTEND;TZID=Europe/Bratislava:20240303T203000
DTSTAMP:20260426T041237
CREATED:20231130T101010Z
LAST-MODIFIED:20240226T135539Z
UID:19887-1709488800-1709497800@www.sportkosice.sk
SUMMARY:HARLEM GLOBETROTTERS KOŠICE 2024
DESCRIPTION:Kúzelníci z Harlem Globetrotters sa vrátia na Slovensko\n\n\nPo ôsmich rokoch znova potešia slovenských divákov! Legendárny basketbalový tím Harlem Globetrotters sa v marci budúceho roka predstaví v Košiciach. Kúzelníci s loptou\, ktorí bavia fanúšikov už dlhé desaťročia\, sa na návštevu našej krajiny tešia a sľubujú parádnu šou.\n\n\nNenechajte si ujsť príležitosť stať sa súčasťou svetoznámeho globálneho turné Harlem Globetrotters\, ktorí na palubovke predvádzajú extrémne basketbalové inovácie a ponúkajú fanúšikom nezabudnuteľnú ZÁBAVU. Pozrite si naživo hviezdy Globetrotterov\, ako svojim DRIBLOVANÍM a SMEČOVANÍM ZATOČIA hlavy svojim neúprosným súperom\, Washington Generals! Nechajte sa uchvátiť neuveriteľnými strelami\, majstrovskými trikmi s loptou a pobaviť nad úplne novými a neprekonateľnými možnosťami interakcie s fanúšikmi pred\, počas a po zápase.\n\n\n3.3.2024 – KOŠICE / Steel Aréna\n\n\nPríďte sa pozrieť na hráčov ako TNT\, Bulldog\, Cheese\, Torch\, Hot Shot\, Jet\, Wham\, Thunder a mnoho ďalších\, ako vytrú palubovku s hráčmi Washington Generals a rozburácajú tribúny. A kto vie\, možno sa náhle ocitnete uprostred palubovky ako súčasť NOVÝCH\, prestávkových ukážok zručností pre FANÚŠIKOV!
URL:https://www.sportkosice.sk/podujatie/harlem-globetrotters-kosice-2024/
LOCATION:STEEL ARENA\, Nerudova 12\, Košice\, 04001\, Slovenská republika
CATEGORIES:basketbal
ATTACH;FMTTYPE=image/jpeg:https://www.sportkosice.sk/wp-content/uploads/2023/11/769x405.jpg
END:VEVENT
END:VCALENDAR