BEGIN:VCALENDAR
VERSION:2.0
PRODID:-//Šport Košice - ECPv5.10.1//NONSGML v1.0//EN
CALSCALE:GREGORIAN
METHOD:PUBLISH
X-WR-CALNAME:Šport Košice
X-ORIGINAL-URL:https://www.sportkosice.sk
X-WR-CALDESC:Udalosti pre Šport Košice
BEGIN:VTIMEZONE
TZID:Europe/Bratislava
BEGIN:DAYLIGHT
TZOFFSETFROM:+0100
TZOFFSETTO:+0200
TZNAME:CEST
DTSTART:20250330T010000
END:DAYLIGHT
BEGIN:STANDARD
TZOFFSETFROM:+0200
TZOFFSETTO:+0100
TZNAME:CET
DTSTART:20251026T010000
END:STANDARD
END:VTIMEZONE
BEGIN:VEVENT
DTSTART;TZID=Europe/Bratislava:20250513T180000
DTEND;TZID=Europe/Bratislava:20250513T200000
DTSTAMP:20260426T031955
CREATED:20250513T091329Z
LAST-MODIFIED:20250513T091329Z
UID:21174-1747159200-1747166400@www.sportkosice.sk
SUMMARY:GymBeam RUN s Dankou Mattovou
DESCRIPTION:Vybehite po práci a doprajte si podvečernú dávku energie! Čaká na vás easy run  dlhý 6\,22 km a poriadna dávka endorfínov.  Či už ste začiatočníci alebo skúsení bežci\, tento beh si určite užijete.  Po dobehnutí sme pre vás pripravili malé občerstvenie.  Označte do komentára niekoho\, kto by sa k nám mal pridať tiež!\n Kde: štart & cieľ GymBeam Rastislavova 93\, Košice Kedy: 13.5. o 18:00 hod. Účasť je zadarmo\, stačí sa zaregistrovať pomocou registračného formulára  https://tinyurl.com/2dz9kctz
URL:https://www.sportkosice.sk/podujatie/gymbeam-run-s-dankou-mattovou/
LOCATION:GymBeam\, Rastislavova 93\, Košice
CATEGORIES:atletika,beh
ATTACH;FMTTYPE=image/jpeg:https://www.sportkosice.sk/wp-content/uploads/2025/05/495370209_1085655306918122_1217499637061781892_n.jpg
END:VEVENT
END:VCALENDAR