BEGIN:VCALENDAR
VERSION:2.0
PRODID:-//Šport Košice - ECPv5.10.1//NONSGML v1.0//EN
CALSCALE:GREGORIAN
METHOD:PUBLISH
X-WR-CALNAME:Šport Košice
X-ORIGINAL-URL:https://www.sportkosice.sk
X-WR-CALDESC:Udalosti pre Šport Košice
BEGIN:VTIMEZONE
TZID:Europe/Bratislava
BEGIN:DAYLIGHT
TZOFFSETFROM:+0100
TZOFFSETTO:+0200
TZNAME:CEST
DTSTART:20240331T010000
END:DAYLIGHT
BEGIN:STANDARD
TZOFFSETFROM:+0200
TZOFFSETTO:+0100
TZNAME:CET
DTSTART:20241027T010000
END:STANDARD
END:VTIMEZONE
BEGIN:VEVENT
DTSTART;TZID=Europe/Bratislava:20241116T180000
DTEND;TZID=Europe/Bratislava:20241116T235900
DTSTAMP:20260426T042118
CREATED:20241030T110342Z
LAST-MODIFIED:20241030T120658Z
UID:20823-1731780000-1731801540@www.sportkosice.sk
SUMMARY:Galavečer bojových umení RFA 19 Košice
DESCRIPTION:Metropola východu opäť zažije zemetrasenie! RFA 19 v hokejovej Steel Aréne už 16. novembra od 18:00. \nPo roku sa Real Fight Arena vracia do Košíc\, kde sa opäť predstavia najväčšie hviezdy východného Slovenska. Budú košickí fanúšikovia jasať rovnako ako naposledy\, alebo domáci bojovníci najdú svojich premožiteľov? \nŠampión ťažkej váhy a najlepší postojár v histórii Slovenska je späť! Tomáš Možný sa po prestupe do MMA ideálne aklimatizoval a po dvoch fantastických otočkách s Kamilom Mindom a Lajosom Pappom získal titul šampióna. Tentokrát sa však na domácej pôde v Košiciach ukáže pod real fight pravidlami\, ktoré sú jeho absolútnou doménou. \nOveľa menej spokojný bol po vlaňajšom RFA 14 Jozef Wittner. Prešovský rodák šokujúco podľahol Lukaszovi Dziudziovi na body a pred košickým publikom rozhodne má čo naprávať. Reparát čaká aj najväčšiu hviezdu domácej postojárskej scény\, Václava Siváka. Ten síce naposledy upravil svoje skóre na 31-0\, no pre nesplnený váhový limit prišiel o titul šampióna. V Steel Aréne ho rozhodne bude chcieť získať naspäť. \nÚplne opačné starosti má Matyas Viszlay\, ktorý obidva svoje doterajšie zápasy v RFA vyhral.\nTentokrát ho ale čaká veľmi náročná previerka v podobe Chorváta Ivana Vladimira\, ktorý v ani jednom z jeho 20 profi zápasov nepotreboval bodových rozhodcov. \nNecelý mesiac po úspešnej profi MMA premiére sa vracia do akcie aj Sebastián Fapšo\, ktorý si v nasledujúcom zápase už nebude musieť dávať pozor na takedowny. Pod postojárskymi pravidlami real fight sa pokúsi priblížiť k titulovej šanci a k dlho očakávanej odvete so šampiónom Kozubovským. \nGardu východného Slovenska doplní ďalší Košičan Gabriel Török. Toho naposledy čakal ostro sledovaný súboj s kontroverzným Václavom Mikuláškom\, ktorý si poriadne odniesli Törökove semenníky. Košický rodák vyhral na diskvalifikáciu\, no teraz si rozhodne bude chcieť proti Ukrajincovi Nagornému pripísať zelené políčko bežnejším spôsobom. \nAko sa bude hviezdám východného Slovenska dariť tentokrát? Príď sa presvedčiť na vlastné oči a buď svedkom ich možno zlomových zápasov kariéry! \n  \nRFA | Real Fight Arena \nRFA 19 Košice - STEEL ARENA
URL:https://www.sportkosice.sk/podujatie/galavecer-bojovych-umeni-rfa-19-kosice/
LOCATION:STEEL ARENA\, Nerudova 12\, Košice\, 04001\, Slovenská republika
CATEGORIES:bojove umenie
ATTACH;FMTTYPE=image/jpeg:https://www.sportkosice.sk/wp-content/uploads/2024/10/464198296_531060892885819_4018773270429490436_n.jpg
END:VEVENT
END:VCALENDAR