BEGIN:VCALENDAR
VERSION:2.0
PRODID:-//Šport Košice - ECPv5.10.1//NONSGML v1.0//EN
CALSCALE:GREGORIAN
METHOD:PUBLISH
X-WR-CALNAME:Šport Košice
X-ORIGINAL-URL:https://www.sportkosice.sk
X-WR-CALDESC:Udalosti pre Šport Košice
BEGIN:VTIMEZONE
TZID:Europe/Bratislava
BEGIN:DAYLIGHT
TZOFFSETFROM:+0100
TZOFFSETTO:+0200
TZNAME:CEST
DTSTART:20250330T010000
END:DAYLIGHT
BEGIN:STANDARD
TZOFFSETFROM:+0200
TZOFFSETTO:+0100
TZNAME:CET
DTSTART:20251026T010000
END:STANDARD
END:VTIMEZONE
BEGIN:VEVENT
DTSTART;TZID=Europe/Bratislava:20250513T080000
DTEND;TZID=Europe/Bratislava:20250513T170000
DTSTAMP:20260426T062402
CREATED:20250513T093810Z
LAST-MODIFIED:20250513T093810Z
UID:21185-1747123200-1747155600@www.sportkosice.sk
SUMMARY:FINAL FOUR SP U20 - futsalový turnaj
DESCRIPTION: |  FINAL FOUR SP U20 v Košiciach!\n V utorok sa odohrá na palubovke Starej jazdiarne turnaj 4. najlepších juniorských tímov v kategórii U20!\nNaša "dvadsiatka" už jeden najcennejší pohár z tejto sezóny doma má\, podarí sa jej získať ďalší?\nPríď sa o tom presvedčiť naživo.11:30 hod. Podpor Pohyb Košice vs. Futsal Team Levice12:45 hod. Pinerola Bratislava vs. Miba Banská Bystrica\n14:00 hod. Zápas o 3.miesto15:00 hod. FINÁLE
URL:https://www.sportkosice.sk/podujatie/final-four-sp-u20-futsalovy-turnaj/
LOCATION:Športová hala Stará jazdiareň\, Pri jazdiarni 1\, Košice\, Košický kraj\, 040 01\, Slovenská republika
CATEGORIES:futsal
ATTACH;FMTTYPE=image/jpeg:https://www.sportkosice.sk/wp-content/uploads/2025/05/497548897_1264193699048410_6963699238705384617_n.jpg
END:VEVENT
END:VCALENDAR