BEGIN:VCALENDAR
VERSION:2.0
PRODID:-//Šport Košice - ECPv5.10.1//NONSGML v1.0//EN
CALSCALE:GREGORIAN
METHOD:PUBLISH
X-WR-CALNAME:Šport Košice
X-ORIGINAL-URL:https://www.sportkosice.sk
X-WR-CALDESC:Udalosti pre Šport Košice
BEGIN:VTIMEZONE
TZID:Europe/Bratislava
BEGIN:DAYLIGHT
TZOFFSETFROM:+0100
TZOFFSETTO:+0200
TZNAME:CEST
DTSTART:20240331T010000
END:DAYLIGHT
BEGIN:STANDARD
TZOFFSETFROM:+0200
TZOFFSETTO:+0100
TZNAME:CET
DTSTART:20241027T010000
END:STANDARD
END:VTIMEZONE
BEGIN:VEVENT
DTSTART;TZID=Europe/Bratislava:20240324T150000
DTEND;TZID=Europe/Bratislava:20240324T173000
DTSTAMP:20260426T024128
CREATED:20240227T105751Z
LAST-MODIFIED:20240227T113614Z
UID:20396-1711292400-1711301400@www.sportkosice.sk
SUMMARY:FC Lokomotíva Košice - 1. MFK Kežmarok
DESCRIPTION:
URL:https://www.sportkosice.sk/podujatie/fc-lokomotiva-kosice-1-mfk-kezmarok/
LOCATION:ŠTADIÓN LOKOMOTÍVA KOŠICE\, Košický kraj
CATEGORIES:futbal
END:VEVENT
END:VCALENDAR