BEGIN:VCALENDAR
VERSION:2.0
PRODID:-//Šport Košice - ECPv5.10.1//NONSGML v1.0//EN
CALSCALE:GREGORIAN
METHOD:PUBLISH
X-WR-CALNAME:Šport Košice
X-ORIGINAL-URL:https://www.sportkosice.sk
X-WR-CALDESC:Udalosti pre Šport Košice
BEGIN:VTIMEZONE
TZID:Europe/Bratislava
BEGIN:DAYLIGHT
TZOFFSETFROM:+0100
TZOFFSETTO:+0200
TZNAME:CEST
DTSTART:20240331T010000
END:DAYLIGHT
BEGIN:STANDARD
TZOFFSETFROM:+0200
TZOFFSETTO:+0100
TZNAME:CET
DTSTART:20241027T010000
END:STANDARD
END:VTIMEZONE
BEGIN:VEVENT
DTSTART;TZID=Europe/Bratislava:20240722T193000
DTEND;TZID=Europe/Bratislava:20240722T213000
DTSTAMP:20260426T055203
CREATED:20240701T115430Z
LAST-MODIFIED:20240701T120308Z
UID:20578-1721676600-1721683800@www.sportkosice.sk
SUMMARY:FC Košice vs. AS Rím - priateľský futbalový zápas
DESCRIPTION:ZÁPAS ROKA V KOŠICIACH\n\n\nFC Košice vyzve tím z večného mesta\n\n\nFC Košice vs AS Rím\n\n\nVSTUPENKY TU : https://predpredaj.zoznam.sk/.../fc-kosice-as-rim-2024.../\n\n\nMilí futbaloví fanúšikovia\,\npríďte zažiť nezabudnuteľný futbalový večer pri príležitosti slávnostného otvorenia Košickej Futbalovej Arény. V pondelok 22. júla 2024 o 19:30 sa na štadióne KFA v Košiciach odohrá historický zápas medzi domácim tímom FC Košice a európskym gigantom AS Rím.\n\n\nAS Rím\, alebo plným názvom Associazione Sportiva Roma\, je profesionálny futbalový klub založený 7. júna 1927 v Ríme. Klub známy svojimi prezývkami ako  "I Giallorossi" (Žlto-červení)\, ”La Lupa" (Vlčica) a "La Magica" (Magický) hrá svoje domáce zápasy na štadióne Stadio Olimpico\, ktorý zdieľa s mestským rivalom SS Lazio. Kapacita štadióna je 70 634 miest. Klub je vlastnený spoločnosťou The Friedkin Group\, pričom jeho prezidentom je Dan Friedkin a hlavným trénerom Daniele De Rossi v ktorého kádri sa nachádzajú aj také hviezdy ako RomeloLukaku\, Leonardo Spinazzola\, Leandro Paredes\, LorenzoPellegrini \, Paolo Dybala alebo Andrea Belotti.\nAS Rím má bohatú históriu v talianskej Serie A\, kde vyhral trikrát ligový titul (1941–42\, 1982–83\, 2000–01)\, deväťkrát Coppa Italia a dvakrát Supercoppa Italiana. Na európskej scéne klub triumfoval v Inter-Cities Fairs Cup (1960–61) a UEFA Europa Conference League (2021–22)\n\n\nTento výnimočný zápas bude nielen futbalovým sviatkom\, ale aj oslavou nového domova FC Košice. Poďte s nami spoločne slávnostne otvoriť brány najnovšieho a jedného z najkrajších a najmodernejších futbalových štadiónov na Slovensku a podporiť našich chlapcov v boji proti jednému z najprestížnejších klubov Európy.\nNezmeškajte túto jedinečnú príležitosť vidieť na vlastné oči špičkový futbal a zažiť atmosféru plnú emócií a športového nadšenia. Tešíme sa na vás\n\n\nProgram:\nod 16:30 program pre fanúšikov a rodiny s deťmi pred Košickou Futbalovou Arénou\nod 17:30 otvorenie brán\nod 19:10 Ceremoniál slávnostného otvorenia\n19:30 výkop stretnutia\n\n\nNechajte sa uniesť futbalovým sviatkom a buďte súčasťou histórie! Príďte podporiť FC Košice\, oslávte spolu s nami otvorenie Košickej Futbalovej Arény a zažime spolu oslavu futbalu !\n\n\nTešíme sa na Vás !\n\n\nS pozdravom\, tím KFA\n\n\n#wearekfa #spoluzasvojimcielom #zltomodrarodina\n#poweredbyflywise #spoluzanasemesto #spoluzanasklub
URL:https://www.sportkosice.sk/podujatie/fc-kosice-vs-as-rim-priatelsky-futbalovy-zapas/
LOCATION:KFA – Košická futbalová aréna\, Pri prachárni 13\, Košice\, Košický kraj\, 040 01\, Slovenská republika
CATEGORIES:futbal
ATTACH;FMTTYPE=image/jpeg:https://www.sportkosice.sk/wp-content/uploads/2024/07/449459454_476583918222254_8155641234303992763_n.jpg
END:VEVENT
END:VCALENDAR