BEGIN:VCALENDAR
VERSION:2.0
PRODID:-//Šport Košice - ECPv5.10.1//NONSGML v1.0//EN
CALSCALE:GREGORIAN
METHOD:PUBLISH
X-WR-CALNAME:Šport Košice
X-ORIGINAL-URL:https://www.sportkosice.sk
X-WR-CALDESC:Udalosti pre Šport Košice
BEGIN:VTIMEZONE
TZID:Europe/Bratislava
BEGIN:DAYLIGHT
TZOFFSETFROM:+0100
TZOFFSETTO:+0200
TZNAME:CEST
DTSTART:20240331T010000
END:DAYLIGHT
BEGIN:STANDARD
TZOFFSETFROM:+0200
TZOFFSETTO:+0100
TZNAME:CET
DTSTART:20241027T010000
END:STANDARD
END:VTIMEZONE
BEGIN:VEVENT
DTSTART;TZID=Europe/Bratislava:20240309T150000
DTEND;TZID=Europe/Bratislava:20240309T170000
DTSTAMP:20260426T054305
CREATED:20240306T075652Z
LAST-MODIFIED:20240306T075652Z
UID:20441-1709996400-1710003600@www.sportkosice.sk
SUMMARY:FC KOŠICE - AS TRENČÍN
DESCRIPTION:Na domácej pôde proti AS Trenčín.\nFutbalistov FC Košice čaká prvý domáci zápas jarnej časti Niké ligy v skupine o udržanie. V Košickej futbalovej aréne privítajú mužstvo z Trenčína. Výkop stretnutia 23. kola Niké ligy je naplánovaný na sobotu 09.marca o 15:00.\nPovzbudzujeme vás k nákupu lístkov ONLINE. Lístok vám príde na e-mail formou QR kódu\, s ktorým sa bezproblémovo a rýchlo viete dostať na tribúnu. Navyše\, lístok s QR kódom si viete zaobstarať ľahko a efektívne z pohodlia domova\, pri vstupe na tribúnu QR kód už iba naskenujete.\nZostávajúce vstupenky bude možné zakúpiť v pokladni pred štadiónom zo strany Merkury Market v deň zápasu (sobota 09.03) od 13:30 do 16:00\, pričom lístky sa budú predávať bez nároku na výber konkrétneho miesta a len do voľných sektorov.\n\nBrány štadióna budú otvorené od 13:30.\nOnline predaj\nOd 04. marca\nPredaj - pokladňa KFA (Pri Prachárni 13\, pokladňa oproti Merkury Market)\nPokladňa na štadióne na ulici Pri Prachárni zo strany Merkury Market bude otvorená v deň zápasu (sobota 09.03.) od 13:30 do 16:00\, pričom vstupenky sa budú predávať bez nároku na výber konkrétneho miesta a iba do voľných sektorov C2 a C5\nVýrazne NEODPORÚČAME nechávať kúpu lístka na poslednú hodinu pred zápasom.\nV prípade problémov a otázok kontaktujte prosím podporu MaxiTicket cez e-mail support@maxiticket.sk\n\n\nCENNÍK vstupeniek (pokladňa)\nSektory C1-C6: 10 €\nSektory C2-C5: 12 €\nSektory C3-C4: 14 €\nSektory C2+\,C3+\,C4+: 16 €\nSektor VIP P (s cateringom): 50€ / vypredané.\nSektor VIP L (bez cateringu): 25€.\nPOZNÁMKA\nPredaj do sektora hostí (AL) je možný výhradne cez klub AS Trenčín.\nPredaj do sektora AP nie je možný.\nZŤP-S je zahrnutý v ZŤP vstupenke (len vozičkári).\nZakúpením vstupeniek do bezdymového sektora (C6) beriete na vedomie\, že v tomto sektore je povolené užívanie bezdymových nikotínových produktov a vstup je umožnený osobám starším ako 18 rokov.\nNa štadióne je počas zápasu prísne zakázané vytvárať a šíriť akékoľvek informácie alebo údaje týkajúce sa vývoja zápasu\, správania sa osôb zúčastnených na zápase alebo iných skutočností majúcich vplyv na zápas\, vyhotovovať audiozáznam\, videozáznam alebo audiovizuálny záznam zo zápasu a tento šíriť resp. inak sprístupňovať tretím osobám na účely akejkoľvek formy stávkovania\, hazardných hier alebo komerčných aktivít\, ktoré neboli vopred povolené. Mobilné telefóny sa môžu používať len na osobné\, súkromné účely. V prípade porušenia týchto podmienok môže byť návštevníkovi odmietnutý vstup na štadión alebo môže byť zo štadióna vyvedený.
URL:https://www.sportkosice.sk/podujatie/fc-kosice-as-trencin/
LOCATION:KFA – Košická futbalová aréna\, Pri prachárni 13\, Košice\, Košický kraj\, 040 01\, Slovenská republika
CATEGORIES:futbal
ATTACH;FMTTYPE=image/jpeg:https://www.sportkosice.sk/wp-content/uploads/2024/03/431042700_802684568560611_1674543416158558331_n.jpg
END:VEVENT
END:VCALENDAR