BEGIN:VCALENDAR
VERSION:2.0
PRODID:-//Šport Košice - ECPv5.10.1//NONSGML v1.0//EN
CALSCALE:GREGORIAN
METHOD:PUBLISH
X-WR-CALNAME:Šport Košice
X-ORIGINAL-URL:https://www.sportkosice.sk
X-WR-CALDESC:Udalosti pre Šport Košice
BEGIN:VTIMEZONE
TZID:Europe/Bratislava
BEGIN:DAYLIGHT
TZOFFSETFROM:+0100
TZOFFSETTO:+0200
TZNAME:CEST
DTSTART:20240331T010000
END:DAYLIGHT
BEGIN:STANDARD
TZOFFSETFROM:+0200
TZOFFSETTO:+0100
TZNAME:CET
DTSTART:20241027T010000
END:STANDARD
END:VTIMEZONE
BEGIN:VEVENT
DTSTART;TZID=Europe/Bratislava:20240201T080000
DTEND;TZID=Europe/Bratislava:20240201T170000
DTSTAMP:20260426T054420
CREATED:20240201T150048Z
LAST-MODIFIED:20240201T150048Z
UID:20171-1706774400-1706806800@www.sportkosice.sk
SUMMARY:Extraliga žien Young Angels Košice - CBK Košice
DESCRIPTION:
URL:https://www.sportkosice.sk/podujatie/extraliga-zien-young-angels-kosice-cbk-kosice/
LOCATION:Športová hala Stará jazdiareň\, Pri jazdiarni 1\, Košice\, Košický kraj\, 040 01\, Slovenská republika
CATEGORIES:basketbal
ATTACH;FMTTYPE=image/jpeg:https://www.sportkosice.sk/wp-content/uploads/2024/02/18302.jpg
END:VEVENT
END:VCALENDAR