BEGIN:VCALENDAR
VERSION:2.0
PRODID:-//Šport Košice - ECPv5.10.1//NONSGML v1.0//EN
CALSCALE:GREGORIAN
METHOD:PUBLISH
X-WR-CALNAME:Šport Košice
X-ORIGINAL-URL:https://www.sportkosice.sk
X-WR-CALDESC:Udalosti pre Šport Košice
BEGIN:VTIMEZONE
TZID:Europe/Bratislava
BEGIN:DAYLIGHT
TZOFFSETFROM:+0100
TZOFFSETTO:+0200
TZNAME:CEST
DTSTART:20230326T010000
END:DAYLIGHT
BEGIN:STANDARD
TZOFFSETFROM:+0200
TZOFFSETTO:+0100
TZNAME:CET
DTSTART:20231029T010000
END:STANDARD
END:VTIMEZONE
BEGIN:VEVENT
DTSTART;TZID=Europe/Bratislava:20230402T121500
DTEND;TZID=Europe/Bratislava:20230402T190000
DTSTAMP:20260426T054541
CREATED:20230331T090634Z
LAST-MODIFIED:20230331T112448Z
UID:19475-1680437700-1680462000@www.sportkosice.sk
SUMMARY:Dohrávka 29. a 2. kolo CASSOVIA HOCKEY LEAGUE
DESCRIPTION:12:15 hod. The Bridge - HTC \n17:30 hod. Ravens - Hbk Šaca \n 
URL:https://www.sportkosice.sk/podujatie/dohravka-29-a-2-kolo-cassovia-hockey-league/
LOCATION:ARÉNA SRŠŇOV – hokejový štadión\, Drábova 3\, Košice\, Košický kraj\, 040 23\, Slovenská republika
CATEGORIES:hokej
ATTACH;FMTTYPE=image/png:https://www.sportkosice.sk/wp-content/uploads/2023/03/chl.png
END:VEVENT
END:VCALENDAR