BEGIN:VCALENDAR
VERSION:2.0
PRODID:-//Šport Košice - ECPv5.10.1//NONSGML v1.0//EN
CALSCALE:GREGORIAN
METHOD:PUBLISH
X-WR-CALNAME:Šport Košice
X-ORIGINAL-URL:https://www.sportkosice.sk
X-WR-CALDESC:Udalosti pre Šport Košice
BEGIN:VTIMEZONE
TZID:Europe/Bratislava
BEGIN:DAYLIGHT
TZOFFSETFROM:+0100
TZOFFSETTO:+0200
TZNAME:CEST
DTSTART:20240331T010000
END:DAYLIGHT
BEGIN:STANDARD
TZOFFSETFROM:+0200
TZOFFSETTO:+0100
TZNAME:CET
DTSTART:20241027T010000
END:STANDARD
END:VTIMEZONE
BEGIN:VEVENT
DTSTART;TZID=Europe/Bratislava:20240522T180000
DTEND;TZID=Europe/Bratislava:20240522T203000
DTSTAMP:20260426T055506
CREATED:20240520T065637Z
LAST-MODIFIED:20240520T065822Z
UID:20533-1716400800-1716409800@www.sportkosice.sk
SUMMARY:Boj o bronz HK Košice - HK Bojnice
DESCRIPTION:Srdečne Vás pozývame na náš domáci zápas o bronzv NHE.Príďte nás povzbudiť a naplniť športovú halu Tešíme sa na Vás
URL:https://www.sportkosice.sk/podujatie/boj-o-bronz-hk-kosice-hk-bojnice/
LOCATION:HÁDZANÁRSKA HALA SLAVOMÍRA ŠIPOŠA\, Alejová 2\, Košice\, 04011\, Slovenská republika
CATEGORIES:hadzana
ATTACH;FMTTYPE=image/jpeg:https://www.sportkosice.sk/wp-content/uploads/2024/05/442468897_899978631933617_1232702671152590322_n.jpg
END:VEVENT
END:VCALENDAR