BEGIN:VCALENDAR
VERSION:2.0
PRODID:-//Šport Košice - ECPv5.10.1//NONSGML v1.0//EN
CALSCALE:GREGORIAN
METHOD:PUBLISH
X-WR-CALNAME:Šport Košice
X-ORIGINAL-URL:https://www.sportkosice.sk
X-WR-CALDESC:Udalosti pre Šport Košice
BEGIN:VTIMEZONE
TZID:Europe/Bratislava
BEGIN:DAYLIGHT
TZOFFSETFROM:+0100
TZOFFSETTO:+0200
TZNAME:CEST
DTSTART:20220327T010000
END:DAYLIGHT
BEGIN:STANDARD
TZOFFSETFROM:+0200
TZOFFSETTO:+0100
TZNAME:CET
DTSTART:20221030T010000
END:STANDARD
END:VTIMEZONE
BEGIN:VEVENT
DTSTART;TZID=Europe/Bratislava:20220121T170000
DTEND;TZID=Europe/Bratislava:20220121T190000
DTSTAMP:20260426T044351
CREATED:20220121T101636Z
LAST-MODIFIED:20220121T101636Z
UID:18001-1642784400-1642791600@www.sportkosice.sk
SUMMARY:BetRING EXTRALIGA FK FLORKO KOŠICE vs. TSUNAMI POVAŽSKÁ BYSTRICA
DESCRIPTION:POĎTE NA TRIBÚNU! Už znova môžete!\nPo dvoch mesiacoch môžete byť znova na tribúne a priamo v hale si vychutnať súboj TOP tímov betRing Extraligy!\nUž túto sobotu nás čaka atraktívny večerný duel proti Tsunami Záhorskej Bystrici - súboj 2. s 3. bude určite patriť medzi šlágre 19. kola.\nBuďte pri tom NAŽIVO v Hádzanárskej hale Slavomíra Šipoša. Potrebujeme vás počuť.\n--------\nVSTUP: Režim OP - preukázanie Covid passom alebo papierovým certifikátom pred vstupom na tribúnu\nKAPACITA: 25% - 500 osôb\nRespirátor a rozostupy na tribúne.
URL:https://www.sportkosice.sk/podujatie/betring-extraliga-fk-florko-kosice-vs-tsunami-povazska-bystrica/
LOCATION:HÁDZANÁRSKA HALA SLAVOMÍRA ŠIPOŠA\, Alejová 2\, Košice\, 04011\, Slovenská republika
ATTACH;FMTTYPE=image/jpeg:https://www.sportkosice.sk/wp-content/uploads/2022/01/272018170_4598919100207080_8716134356930136584_n.jpg
END:VEVENT
END:VCALENDAR