BEGIN:VCALENDAR
VERSION:2.0
PRODID:-//Šport Košice - ECPv5.10.1//NONSGML v1.0//EN
CALSCALE:GREGORIAN
METHOD:PUBLISH
X-WR-CALNAME:Šport Košice
X-ORIGINAL-URL:https://www.sportkosice.sk
X-WR-CALDESC:Udalosti pre Šport Košice
BEGIN:VTIMEZONE
TZID:Europe/Bratislava
BEGIN:DAYLIGHT
TZOFFSETFROM:+0100
TZOFFSETTO:+0200
TZNAME:CEST
DTSTART:20230326T010000
END:DAYLIGHT
BEGIN:STANDARD
TZOFFSETFROM:+0200
TZOFFSETTO:+0100
TZNAME:CET
DTSTART:20231029T010000
END:STANDARD
END:VTIMEZONE
BEGIN:VEVENT
DTSTART;TZID=Europe/Bratislava:20230117T190000
DTEND;TZID=Europe/Bratislava:20230117T203000
DTSTAMP:20260426T055004
CREATED:20230115T154525Z
LAST-MODIFIED:20230217T125610Z
UID:18985-1673982000-1673987400@www.sportkosice.sk
SUMMARY:ACTIVE LIFE TRÉNINGOVÝ BEH - FURČA
DESCRIPTION:Hýbeme sa aj v zime!\nV Košiciach bežíme o 19tej z parkoviska pri vstupe do Lesoparku.\nRegistrácia 1 €\nV cene rozcvička\, úschovňa\, pitný režim /domáci bylinkový čaj/\, relax a zábava\nTrať dlhá 7 km. Dá sa samozrejme predĺžiť alebo skrátiť.\nStriedať budeme naše klasické 4 trasy:\nFurča\, Jazero\, Terasa a Anička.\nFoto nahadzujte aj do skupiny Active life skupina\, aby sme sa navzájom motivovali\, s označením\n#activelifepridajsaknam\n#treningovybeh\nActive life - PRIDAJ SA K NÁM!\nActive life skupina\nhttps://www.strava.com/clubs/466729\nVYUŽI 20 % ZĽAVU NA NÁKUP na www.exisport.com/sk/\nhttps://projektactivelife.sk/.../20-zlava-na-nakup-na.../\nTvoríme a motivujeme vďaka:\n#EXIsport\n#Nemocnica AGEL Košice - Šaca\n#Cassovia Code\n#Willcom.sk\n#PIKARO TRADING\, SE\n#STEEL BUSINESS EUROPE SE\n#CESTY KOŠICE\n#ŠportKošice
URL:https://www.sportkosice.sk/podujatie/active-life-treningovy-beh-furca/
LOCATION:Lesopark Furča\, Ortvaňová 1533\, Košice\, 040 14\, Slovenská republika
CATEGORIES:atletika,beh
ATTACH;FMTTYPE=image/jpeg:https://www.sportkosice.sk/wp-content/uploads/2023/02/325361631_469515252054897_223373548392802158_n.jpg
END:VEVENT
END:VCALENDAR