BEGIN:VCALENDAR
VERSION:2.0
PRODID:-//Šport Košice - ECPv5.10.1//NONSGML v1.0//EN
CALSCALE:GREGORIAN
METHOD:PUBLISH
X-WR-CALNAME:Šport Košice
X-ORIGINAL-URL:https://www.sportkosice.sk
X-WR-CALDESC:Udalosti pre Šport Košice
BEGIN:VTIMEZONE
TZID:Europe/Bratislava
BEGIN:DAYLIGHT
TZOFFSETFROM:+0100
TZOFFSETTO:+0200
TZNAME:CEST
DTSTART:20260329T010000
END:DAYLIGHT
BEGIN:STANDARD
TZOFFSETFROM:+0200
TZOFFSETTO:+0100
TZNAME:CET
DTSTART:20261025T010000
END:STANDARD
END:VTIMEZONE
BEGIN:VEVENT
DTSTART;TZID=Europe/Bratislava:20260404T180000
DTEND;TZID=Europe/Bratislava:20260404T203000
DTSTAMP:20260425T180309
CREATED:20260126T122829Z
LAST-MODIFIED:20260126T122829Z
UID:21461-1775325600-1775334600@www.sportkosice.sk
SUMMARY:36. kolo SBL muži KOŠICE WOLVES - Spišskí Rytieri
DESCRIPTION:36. kolo Slovenskej basketbalovej extraligy mužov Košice Wolves - Spišskí Rytieri
URL:https://www.sportkosice.sk/podujatie/36-kolo-sbl-muzi-kosice-wolves-spisski-rytieri/
LOCATION:Športová hala Stará jazdiareň\, Pri jazdiarni 1\, Košice\, Košický kraj\, 040 01\, Slovenská republika
CATEGORIES:basketbal
ATTACH;FMTTYPE=image/jpeg:https://www.sportkosice.sk/wp-content/uploads/2026/01/511169561_1161670395978148_238212151327828702_n.jpg
END:VEVENT
BEGIN:VEVENT
DTSTART;TZID=Europe/Bratislava:20260418T060000
DTEND;TZID=Europe/Bratislava:20260418T200000
DTSTAMP:20260425T180309
CREATED:20260128T122147Z
LAST-MODIFIED:20260128T122147Z
UID:21474-1776492000-1776542400@www.sportkosice.sk
SUMMARY:VIII. ročník Ultramaratón Košice - Miškolc
DESCRIPTION:Dňa 18.04.2026\, v sobotu\, organizuje verejné medzinárodné bežecké preteky pod názvom VIII. Ultramaratón Košice-Miškovec. \nJedinečné preteky v našom regióne dlhé 117 km môžu absolvovať tak jednotlivci\, ako aj 10 a 5\, a 2 členní štafetoví bežci. \n\n\nhttps://www.kosicemarathon.com/kosice-miskolc-ultramarathon/\nDátum podujatia:Sobota\, 18. apríl 2026\n\nOrganizátori a informácie:Maratónsky klub Košice (www.kosicemarathon.com)Marathon Club Miskolc (www.maratonclubmiskolc.hu)\n\n\n\nMaďarská verzia:\nhttps://www.facebook.com/events/1339945687002284
URL:https://www.sportkosice.sk/podujatie/viii-rocnik-ultramaraton-kosice-miskolc/
LOCATION:Košický kraj\, Košický kraj\, Slovenská republika
CATEGORIES:atletika,beh
ATTACH;FMTTYPE=image/jpeg:https://www.sportkosice.sk/wp-content/uploads/2026/01/600322715_1410546433770781_6791757110580409083_n.jpg
ORGANIZER;CN="Mesto%20Ko%C5%A1ice":MAILTO:sportkosice@gmail.com
END:VEVENT
END:VCALENDAR