BEGIN:VCALENDAR
VERSION:2.0
PRODID:-//Šport Košice - ECPv5.10.1//NONSGML v1.0//EN
CALSCALE:GREGORIAN
METHOD:PUBLISH
X-WR-CALNAME:Šport Košice
X-ORIGINAL-URL:https://www.sportkosice.sk
X-WR-CALDESC:Udalosti pre Šport Košice
BEGIN:VTIMEZONE
TZID:Europe/Bratislava
BEGIN:DAYLIGHT
TZOFFSETFROM:+0100
TZOFFSETTO:+0200
TZNAME:CEST
DTSTART:20260329T010000
END:DAYLIGHT
BEGIN:STANDARD
TZOFFSETFROM:+0200
TZOFFSETTO:+0100
TZNAME:CET
DTSTART:20261025T010000
END:STANDARD
END:VTIMEZONE
BEGIN:VEVENT
DTSTART;TZID=Europe/Bratislava:20260307T100000
DTEND;TZID=Europe/Bratislava:20260308T150000
DTSTAMP:20260426T055903
CREATED:20260219T092845Z
LAST-MODIFIED:20260219T094114Z
UID:21494-1772877600-1772982000@www.sportkosice.sk
SUMMARY:Halové Majstrovstvá Slovenska mládeže 2026 v lukostreľbe
DESCRIPTION:X10 Academy – 1.Lukostrelecká akadémia z poverenia Slovenského lukostreleckého zväzu po ročnej prestávke zorganizuje ďalšie Majstrovstvá Slovenska mládeže\, tentokrát v halovej lukostreľbe. Súťaž sa bude konať v Športovej hale Slavomíra Šipoša v Košiciach v dňoch 7.-8.marca 2026 a očakáva sa účasť viac ako 200 mladých lukostrelcov. Spolu s členmi realizačných tímov a doprovodu športovcov očakávame spolu 400 – 500 návštevníkov tohto podujatia. Pre súťažiacich bude nachystaná najväčšia halová lukostrelnica v rámci Slovenska s 32 terčovnicami a súťažiť sa bude v kategóriách žiakov\, kadetov a juniorov. Náš domáci klub bude mať najväčšie zastúpenie\, kvalifikačný limit pre M-SR splnilo až 50 našich lukostrelcov\, čo je historický rekord. Na toto podujatie srdečne pozývame aj športovú verejnosť a všetkých nadšencov lukostreleckého športu. Vstup pre divákov je voľný. \nVýsledky súťaže je možné sledovať na webe https://www.ianseo.net/Details.php?toId=26117 \nVideá a obrázky zo súťaže budú zverejnené na našich sociálnych sieťach Facebook a Instagram. \nHarmonogram súťaže: \n7.3.2026 (sobota) – 10:45 – kvalifikácie kadetov a juniorov \n7.3.2026 (sobota) – 14:15 – slávnostné otvorenie Majstrovstiev Slovenska \n7.3.2026 (sobota) – 15:45 – kvalifikácie žiakov \n8.3.2026 (nedeľa) – 9:00 – eliminácie jednotlivcov \n8.3.2026 (nedeľa) – 13:00 – komentované finálové súboje o zlato \nToto podujatie sa koná s podporou Mesta Košice\, Slovenského lukostreleckého zväzu\, X10 Academy – 1.Lukostrelecká akadémia a klubu TJ Slávia UVLF Košice. Ďalšími partnermi sú Wiawis Archery\, Beiter Archery\, spoločnosť Dulbod.
URL:https://www.sportkosice.sk/podujatie/halove-majstrovstva-slovenska-mladeze-2026-v-lukostrelbe/
LOCATION:HÁDZANÁRSKA HALA SLAVOMÍRA ŠIPOŠA\, Alejová 2\, Košice\, 04011\, Slovenská republika
CATEGORIES:lukostreľba
ATTACH;FMTTYPE=image/png:https://www.sportkosice.sk/wp-content/uploads/2026/02/1000019779.png
END:VEVENT
BEGIN:VEVENT
DTSTART;TZID=Europe/Bratislava:20260308T110000
DTEND;TZID=Europe/Bratislava:20260308T143000
DTSTAMP:20260426T055903
CREATED:20260116T135402Z
LAST-MODIFIED:20260116T135402Z
UID:21346-1772967600-1772980200@www.sportkosice.sk
SUMMARY:19. kolo II. liga FK SLÁVIA TU KOŠICE - Stará Ľubovňa Redfox Football Club
DESCRIPTION:
URL:https://www.sportkosice.sk/podujatie/19-kolo-ii-liga-fk-slavia-tu-kosice-stara-lubovna-redfox-football-club/
LOCATION:Štadión TU Watsonova Košice\, Watsonova 1912/4A\, Košice\, Košický kraj\, 04001
CATEGORIES:futbal
ATTACH;FMTTYPE=image/jpeg:https://www.sportkosice.sk/wp-content/uploads/2026/01/538430135_769757275891143_2421090991132747552_n.jpg
END:VEVENT
BEGIN:VEVENT
DTSTART;TZID=Europe/Bratislava:20260308T150000
DTEND;TZID=Europe/Bratislava:20260308T173000
DTSTAMP:20260426T055903
CREATED:20260120T123643Z
LAST-MODIFIED:20260126T124024Z
UID:21467-1772982000-1772991000@www.sportkosice.sk
SUMMARY:17. kolo SBL 1. liga mladí muži U23 SLÁVIA KOŠICE WOLVES - Inter SB Bratislava
DESCRIPTION:17. kolo Slovenskej basketbalovej 1. liga mladí muži U23 SLÁVIA KOŠICE WOLVES - Inter SB Bratislava
URL:https://www.sportkosice.sk/podujatie/15-kolo-sbl-1-liga-mladi-muzi-u23-slavia-kosice-wolves-bk-levoca/
LOCATION:Športová hala Stará jazdiareň\, Pri jazdiarni 1\, Košice\, Košický kraj\, 040 01\, Slovenská republika
CATEGORIES:basketbal
ATTACH;FMTTYPE=image/jpeg:https://www.sportkosice.sk/wp-content/uploads/2026/01/511169561_1161670395978148_238212151327828702_n.jpg
END:VEVENT
END:VCALENDAR