BEGIN:VCALENDAR
VERSION:2.0
PRODID:-//Šport Košice - ECPv5.10.1//NONSGML v1.0//EN
CALSCALE:GREGORIAN
METHOD:PUBLISH
X-WR-CALNAME:Šport Košice
X-ORIGINAL-URL:https://www.sportkosice.sk
X-WR-CALDESC:Udalosti pre Šport Košice
BEGIN:VTIMEZONE
TZID:Europe/Bratislava
BEGIN:DAYLIGHT
TZOFFSETFROM:+0100
TZOFFSETTO:+0200
TZNAME:CEST
DTSTART:20260329T010000
END:DAYLIGHT
BEGIN:STANDARD
TZOFFSETFROM:+0200
TZOFFSETTO:+0100
TZNAME:CET
DTSTART:20261025T010000
END:STANDARD
END:VTIMEZONE
BEGIN:VEVENT
DTSTART;TZID=Europe/Bratislava:20260304T180000
DTEND;TZID=Europe/Bratislava:20260304T210000
DTSTAMP:20260426T045647
CREATED:20260116T132954Z
LAST-MODIFIED:20260116T132954Z
UID:21340-1772647200-1772658000@www.sportkosice.sk
SUMMARY:Slovnaft Cup- Štvrťfinále FC KOŠICE - DAC Dunajská Streda
DESCRIPTION:
URL:https://www.sportkosice.sk/podujatie/slovnaft-cup-stvrtfinale-fc-kosice-dac-dunajska-streda/
LOCATION:KFA – Košická futbalová aréna\, Pri prachárni 13\, Košice\, Košický kraj\, 040 01\, Slovenská republika
CATEGORIES:futbal
ATTACH;FMTTYPE=image/jpeg:https://www.sportkosice.sk/wp-content/uploads/2026/01/matchday.jpg
END:VEVENT
END:VCALENDAR