BEGIN:VCALENDAR
VERSION:2.0
PRODID:-//Šport Košice - ECPv5.10.1//NONSGML v1.0//EN
CALSCALE:GREGORIAN
METHOD:PUBLISH
X-WR-CALNAME:Šport Košice
X-ORIGINAL-URL:https://www.sportkosice.sk
X-WR-CALDESC:Udalosti pre Šport Košice
BEGIN:VTIMEZONE
TZID:Europe/Bratislava
BEGIN:DAYLIGHT
TZOFFSETFROM:+0100
TZOFFSETTO:+0200
TZNAME:CEST
DTSTART:20260329T010000
END:DAYLIGHT
BEGIN:STANDARD
TZOFFSETFROM:+0200
TZOFFSETTO:+0100
TZNAME:CET
DTSTART:20261025T010000
END:STANDARD
END:VTIMEZONE
BEGIN:VEVENT
DTSTART;TZID=Europe/Bratislava:20260209T180000
DTEND;TZID=Europe/Bratislava:20260209T200000
DTSTAMP:20260426T012516
CREATED:20260121T064121Z
LAST-MODIFIED:20260121T064121Z
UID:21381-1770660000-1770667200@www.sportkosice.sk
SUMMARY:13. kolo Futsalovej extraligy PODPOR POHYB KOŠICE - TC Tatran Prešov futsal
DESCRIPTION:
URL:https://www.sportkosice.sk/podujatie/13-kolo-futsalovej-extraligy-podpor-pohyb-kosice-tc-tatran-presov-futsal/
LOCATION:Športová hala Stará jazdiareň\, Pri jazdiarni 1\, Košice\, Košický kraj\, 040 01\, Slovenská republika
CATEGORIES:futsal
ATTACH;FMTTYPE=image/png:https://www.sportkosice.sk/wp-content/uploads/2026/01/UgzgBxyS-fyOLCO3a.png
END:VEVENT
END:VCALENDAR