BEGIN:VCALENDAR
VERSION:2.0
PRODID:-//Šport Košice - ECPv5.10.1//NONSGML v1.0//EN
CALSCALE:GREGORIAN
METHOD:PUBLISH
X-WR-CALNAME:Šport Košice
X-ORIGINAL-URL:https://www.sportkosice.sk
X-WR-CALDESC:Udalosti pre Šport Košice
BEGIN:VTIMEZONE
TZID:Europe/Bratislava
BEGIN:DAYLIGHT
TZOFFSETFROM:+0100
TZOFFSETTO:+0200
TZNAME:CEST
DTSTART:20260329T010000
END:DAYLIGHT
BEGIN:STANDARD
TZOFFSETFROM:+0200
TZOFFSETTO:+0100
TZNAME:CET
DTSTART:20261025T010000
END:STANDARD
END:VTIMEZONE
BEGIN:VEVENT
DTSTART;TZID=Europe/Bratislava:20260117T080000
DTEND;TZID=Europe/Bratislava:20260121T190000
DTSTAMP:20260426T043019
CREATED:20260109T103336Z
LAST-MODIFIED:20260121T103621Z
UID:21400-1768636800-1769022000@www.sportkosice.sk
SUMMARY:HALOVÉ MAJSTROVSTVÁ SR
DESCRIPTION: Halové majstrovstvá Slovenska staršieho žiactva v NTC Košice\n\n\nOd 17. do 21. januára 2026 sa v priestoroch NTC Košice uskutočnia Halové majstrovstvá Slovenska v kategórii staršieho žiactva.\nNajlepší mladí tenisti a tenistky z celého Slovenska si zmerajú sily v boji o majstrovské tituly.\n NTC Košice\n Finálové zápasy: streda 21. januára 2026\n Vstup pre verejnosť je zdarma\n\n\nPríďte si vychutnať kvalitný mládežnícky tenis a podporiť budúce tenisové talenty.\n\n\n#HaloveMSR #StarsiZiaci #Tenis #MladezTenis #SlovenskyTenis #STZ #NTCKosice #Kosice #TenisPreVsetkych #VstupZdarma
URL:https://www.sportkosice.sk/podujatie/halove-majstrovstva-sr/
LOCATION:NTC Košice\, POpradská 84E\, Košice\, Košický kraj\, 04011\, Slovenská republika
CATEGORIES:tenis
ATTACH;FMTTYPE=image/jpeg:https://www.sportkosice.sk/wp-content/uploads/2026/01/615878004_122201035514326519_6076211623100062898_n.jpg
END:VEVENT
END:VCALENDAR