BEGIN:VCALENDAR
VERSION:2.0
PRODID:-//Šport Košice - ECPv5.10.1//NONSGML v1.0//EN
CALSCALE:GREGORIAN
METHOD:PUBLISH
X-WR-CALNAME:Šport Košice
X-ORIGINAL-URL:https://www.sportkosice.sk
X-WR-CALDESC:Udalosti pre Šport Košice
BEGIN:VTIMEZONE
TZID:Europe/Bratislava
BEGIN:DAYLIGHT
TZOFFSETFROM:+0100
TZOFFSETTO:+0200
TZNAME:CEST
DTSTART:20250330T010000
END:DAYLIGHT
BEGIN:STANDARD
TZOFFSETFROM:+0200
TZOFFSETTO:+0100
TZNAME:CET
DTSTART:20251026T010000
END:STANDARD
END:VTIMEZONE
BEGIN:VEVENT
DTSTART;TZID=Europe/Bratislava:20251018T070000
DTEND;TZID=Europe/Bratislava:20251018T170000
DTSTAMP:20260426T054224
CREATED:20250512T094432Z
LAST-MODIFIED:20250512T094432Z
UID:21168-1760770800-1760806800@www.sportkosice.sk
SUMMARY:APONI DOG RACE ADVANTURE 2025
DESCRIPTION:Tento rok okrem prekážkových pretekov so psom\, ktoré sa budú konať 30.08.2025 vo Vyšnom Medzeve prinášame novinku. Budete si môcť spolu s nami užiť aj nadupaný víkend na dvojdňovom podujatí APONI DOG ADVENTURE na Jahodnej pri Košiciach.\nV spolupráci so Zväzom psích záprahov pre pretekárov s licenciou pripravujeme dvojdňové musherské preteky v kategóriách Canicross\, Bikejoring a Scooter .\nTo však nebude všetko. Myslíme aj na našich hobbíkov\, milovníkov dogtrekkingu a spoločných aktivít so svojimi chlpáčmi. V rámci sprievodných víkendových podujatí si v jeden deň budete môcť spolu zabehať na hobby canicrossovej trati a druhý deň si užijete krásnu prírodu Volovských vrchov na dogtrekkingu. Ak sa zúčastníte všetkých našich troch hobby pretekov\, budete mať šancu zabojovať o titul celkového víťaza sezóny a získať parádne ceny. Počet účastníkov bude limitovaný.\nViac info čoskoro.
URL:https://www.sportkosice.sk/podujatie/aponi-dog-race-advanture-2025/
LOCATION:Jahodná – športovo rekreačné stredisko\, Chata Jahodná\, Košice\, Košický kraj
CATEGORIES:beh
ATTACH;FMTTYPE=image/jpeg:https://www.sportkosice.sk/wp-content/uploads/2025/05/487105869_652184444225465_7900580882268456907_n.jpg
END:VEVENT
END:VCALENDAR