BEGIN:VCALENDAR
VERSION:2.0
PRODID:-//Šport Košice - ECPv5.10.1//NONSGML v1.0//EN
CALSCALE:GREGORIAN
METHOD:PUBLISH
X-WR-CALNAME:Šport Košice
X-ORIGINAL-URL:https://www.sportkosice.sk
X-WR-CALDESC:Udalosti pre Šport Košice
BEGIN:VTIMEZONE
TZID:Europe/Bratislava
BEGIN:DAYLIGHT
TZOFFSETFROM:+0100
TZOFFSETTO:+0200
TZNAME:CEST
DTSTART:20250330T010000
END:DAYLIGHT
BEGIN:STANDARD
TZOFFSETFROM:+0200
TZOFFSETTO:+0100
TZNAME:CET
DTSTART:20251026T010000
END:STANDARD
END:VTIMEZONE
BEGIN:VEVENT
DTSTART;TZID=Europe/Bratislava:20251005T090000
DTEND;TZID=Europe/Bratislava:20251005T150000
DTSTAMP:20260426T054225
CREATED:20250120T100258Z
LAST-MODIFIED:20250120T100453Z
UID:21000-1759654800-1759676400@www.sportkosice.sk
SUMMARY:Medzinárodný maratón mieru Košice 2025 / Košice Peace Marathon 2025
DESCRIPTION:KOSICEMARATHON.COM#KOSICEMARATHON#EUROPESOLDEST \nÚčasť a súťaženie na Medzinárodnom maratóne mieru (MMM) sa riadi Všeobecnými podmienkami (VP)\, pravidlami atletických súťaží World Athletics (WA)\, súťažného poriadku Slovenského atletického zväzu (SAZ) a ustanoveniami týchto Propozícií.\nÚčastník MMM vyplnením a odoslaním registračného formulára potvrdzuje\, že sa oboznámil a súhlasí so Všeobecnými podmienkami. \nSÚŤAŽNÉ DISCIPLÍNY MMM\n\nMaratón (42\,195 km)\nPolmaratón (21\,097 km)\nŠtafeta Magna maratón 4x¼ (42\,195 km)\nHandbike (20 km)\n\nHARMONOGRAM ŠTARTOV\nNedeľa\, 5.10.2025\nHandbike – 8:45\nMaratón/Štafeta 4×1/4 – 9:00\nPolmaratón – od 10:30 \nHarmonogram štartov môže byť zo strany organizátora dodatočne upravený. Účastníci MMM budú o prípadných zmenách informovaní v dostatočnom predstihu. \nČASOVÝ LIMIT\nČasový limit pre dokončenie disciplíny Maratón je 6 hodín. Preteky budú ukončené v čase\, ktorý nastane po uplynutí tohto limitu. Pre ostatné disciplíny MMM platí pravidlo\, že budú ukončené podľa rozhodnutia uvedeného v Záverečných pokynoch\, najneskôr však v rovnakom čase ako Maratón. Účastníci\, ktorí sa budú nachádzať na trati po uplynutí tohto limitu znášajú na vlastné nebezpečie všetky riziká s tým spojené. \nVEKOVÝ LIMIT\nMaratón\, Handbike – 18 rokov (ročník 2007 a starší)\nPolmaratón – 16 rokov* (ročník 2009 a starší)\nŠtafeta Magna Maratón 4×1/4 – 15 rokov* (ročník 2010 a starší) \n*Účastníci vo veku do 18 rokov sa môžu zúčastniť len vybraných disciplín. Pri preberaní štartového čísla musia odovzdať písomný súhlas svojho zákonného zástupcu. Súhlas zákonného zástupcu je súčasťou Akceptácie štartu. \nVEKOVÉ KATEGÓRIE\nOkrem vyhodnotenia v absolútnom poradí zostaví organizátor v disciplínach Maratón a Polmaratón výsledky priradením príslušného príznaku aj v týchto vekových kategóriách:\nM40\, Z40 (1985 – 1976)\nM50\, Z50 (1975 – 1966)\nM60\, Z60 (1965 – 1956)\nM70\, Z70 (1955 a starší)\nOstatné disciplíny sú vyhodnocované bez vekových kategórií. \nODMENY\nFinančné odmeny a vecné ceny získajú účastníci MMM podľa osobitného rozpisu\, ktorý organizátor zverejní 15 dní pred konaním podujatia. \nV prípade\, ak pretekár získa v zmysle propozícií nárok na finančnú odmenu\, bude mu táto vyplatená do 60 dní po skončení pretekov\, a to bankovým prevodom na účet pretekára\, ktorého číslo po výzve oznámi organizátorovi. Časový limit na vyplatenie takejto odmeny môže byť predĺžený v prípade pokiaľ do tohto termínu nebudú známe výsledky antidopingových testov.\nVíťazov jednotlivých disciplín a vekových kategórií\, ktorí majú v zmysle propozícií nárok na vecnú odmenu\, ocení organizátor priamo pri vyhlasovaní víťazov. V prípade ich neúčasti na tomto ceremoniály nemá organizátor povinnosť doručovať vecné ceny pretekárom iným spôsobom. \nSTANOVENIE VÝSLEDKOV\nOficiálne výsledky v jednotlivých disciplínach MMM po ich overení zverejní organizátor podujatia na svojom webovom sídle www.kosicemarathon.com v primeranej lehote po ukončení podujatia. \nPROTESTY\nProtesty\, ktoré sa týkajú výsledkov alebo priebehu súťaže niektorej z disciplín\, sa musia podať do 30 minút po zverejnení výsledkov tejto disciplíny. Organizátori súťaže musia zabezpečiť\, aby sa zaznamenal čas vyhlásenia výsledkov v každej disciplíne.\nKaždý protest prednesie ústne vedúcemu rozhodcovi sám pretekár alebo funkcionár\, ktorý pretekára zastupuje. Ak vedúci rozhodca nie je prítomný\, je možné protest podať a doručiť mu ho prostredníctvom kancelárie pretekov. \nOdvolanie voči rozhodnutiu vo veci protestu sa musí podať jury do 30 minút od:\na) oficiálneho oznámenia výsledku súťaže upraveného rozhodnutím vedúceho rozhodcu\, alebo\nb) oznámenia rozhodnutia poskytnutého tomu\, kto podával protest\, ak výsledok nebol zmenený\nOdvolanie musí byť písomné\, musí byť podpísané pretekárom alebo funkcionárom\, ktorý pretekára zastupuje a musí byť doložené vkladom 10 EUR. Vklad prepadne\, ak jury uzná odvolanie za bezpredmetné. \nZODPOVEDNOSŤ A POISTENIE\nOrganizátor neposkytuje účastníkom poistenie. Uzatvorenie príslušného poistenia (zdravotné\, úrazové\, zodpovednosti za škodu\, cestovné a pod.) je na rozhodnutí účastníka podujatia. Prípadné náklady za ošetrenie\, hospitalizáciu\, spôsobenú škodu a pod. budú prenesené na účastníka.\nOrganizátor nepreberá zodpovednosť za škody na majetku alebo na zdraví súvisiace s cestou\, pobytom a účasťou pretekárov na podujatí. Je na zodpovednosti účastníka\, aby absolvoval pred štartom príslušnú zdravotnú prehliadku a získal informácie o svojom zdravotnom stave v súvislosti s rozhodnutím zúčastniť sa Medzinárodného maratónu mieru. Každý účastník štartuje na vlastnú zodpovednosť. \nZÁVEREČNÉ USTANOVENIA\nPodrobné podmienky účasti na MMM upravujú Všeobecné podmienky\, ktoré sú záväzné pre každého registrovaného Účastníka Podujatia. \nOrganizátor si vyhradzuje právo na zmenu v programe\, propozíciách a ostatných podmienkach bez predchádzajúceho oznámenia. \n[SK] Online registrácia už čoskoro[EN] Online registration coming soon–https://registration.kosicemarathon.com/
URL:https://www.sportkosice.sk/podujatie/medzinarodny-maraton-mieru-kosice-2025-kosice-peace-marathon-2025/
LOCATION:Dolná brána Košice\, Hlavná ulica\, Košice\, Košický kraj\, 04001\, Slovenská republika
CATEGORIES:atletika,beh
ATTACH;FMTTYPE=image/jpeg:https://www.sportkosice.sk/wp-content/uploads/2025/01/470227827_1135764197915674_2688534615330646124_n.jpg
ORGANIZER;CN="Mesto%20Ko%C5%A1ice":MAILTO:sportkosice@gmail.com
END:VEVENT
END:VCALENDAR